BEGIN:VCALENDAR
VERSION:2.0
PRODID:-//Innocenti Academy - ECPv6.14.0//NONSGML v1.0//EN
CALSCALE:GREGORIAN
METHOD:PUBLISH
X-ORIGINAL-URL:https://www.innocentiacademy.it
X-WR-CALDESC:Eventi per Innocenti Academy
REFRESH-INTERVAL;VALUE=DURATION:PT1H
X-Robots-Tag:noindex
X-PUBLISHED-TTL:PT1H
BEGIN:VTIMEZONE
TZID:Europe/Rome
BEGIN:DAYLIGHT
TZOFFSETFROM:+0100
TZOFFSETTO:+0200
TZNAME:CEST
DTSTART:20250330T010000
END:DAYLIGHT
BEGIN:STANDARD
TZOFFSETFROM:+0200
TZOFFSETTO:+0100
TZNAME:CET
DTSTART:20251026T010000
END:STANDARD
END:VTIMEZONE
BEGIN:VEVENT
DTSTART;TZID=Europe/Rome:20250506T090000
DTEND;TZID=Europe/Rome:20251218T183000
DTSTAMP:20260425T122918
CREATED:20250429T154707Z
LAST-MODIFIED:20250708T090953Z
UID:10000237-1746522000-1766082600@www.innocentiacademy.it
SUMMARY:Percorso formativo per il rilancio dell'affidamento e della solidarietà familiare
DESCRIPTION:[vc_row type=”in_container” full_screen_row_position=”middle” column_margin=”default” column_direction=”default” column_direction_tablet=”default” column_direction_phone=”default” scene_position=”center” text_color=”dark” text_align=”left” row_border_radius=”none” row_border_radius_applies=”bg” overflow=”visible” overlay_strength=”0.3″ gradient_direction=”left_to_right” shape_divider_position=”bottom” bg_image_animation=”none”][vc_column column_padding=”no-extra-padding” column_padding_tablet=”inherit” column_padding_phone=”inherit” column_padding_position=”all” column_element_direction_desktop=”default” column_element_spacing=”default” desktop_text_alignment=”default” tablet_text_alignment=”default” phone_text_alignment=”default” background_color_opacity=”1″ background_hover_color_opacity=”1″ column_backdrop_filter=”none” column_shadow=”none” column_border_radius=”none” column_link_target=”_self” column_position=”default” gradient_direction=”left_to_right” overlay_strength=”0.3″ width=”1/1″ tablet_width_inherit=”default” animation_type=”default” bg_image_animation=”none” border_type=”simple” column_border_width=”none” column_border_style=”solid”][vc_column_text]Il corso di formazione dal titolo Percorso formativo per il rilancio dell’affidamento e della solidarietà familiare con il Metodo dei “Nuovi RITMi” prevede attività di accompagnamento formativo-consulenziale volte a rafforzare le competenze teorico-metodologiche e strategico-operative degli operatori sociosanitari\, supportando il lavoro di questi nell’infrastrutturazione di un adeguato sistema locale di accoglienza familiare. \nIl Metodo “Nuovi RITMi” (Relazionale\, Incrementale\, Tutorato\, Mirato) per il rilancio dell’affidamento e della solidarietà familiare si fonda su quattro idee guida\, rappresentate dai quattro termini di cui si compone l’acronimo\, che lo definiscono e ne rappresentano la cornice e il fondamento. \nIl percorso formativo si sviluppa da maggio a dicembre 2025 e si rivolge alla platea degli Ambiti Territoriali Sociali Affido toscani. \nIl percorso si articola su un livello macro con tre sessioni plenarie in presenza e su un livello micro con una sessione formativa on line dedicata ai singoli Centri Affidi d’Ambito (estesa anche agli Ambiti Territoriali sociali attualmente privi di un Centro Affidi).[/vc_column_text][vc_column_text el_class=”blu uppercase”]\nDescrizione\n[/vc_column_text][vc_column_text]Sono previstri diversi incontri in presenza (PLENARIA): \n\n6 Maggio 2025 (dalle 9.00 alle 16.30)\n3 Giugno 2025 (dalle 9.00 alle 16.30)\n18 Dicembre 2025 (dalle 9.00 alle 16.30)\n\nPiù una serie di Sessioni ON LINE\, dedicate alle 28 zone territoriali\, che si svolgeranno da Giugno a Novembre 2025.[/vc_column_text][vc_column_text el_class=”blu uppercase”]\nFinalità\n[/vc_column_text][vc_column_text]Considerato il fabbisogno formativo dei Centri Affido della Toscana\, si intende accompagnare lo sviluppo della vicinanza solidale e dell’aggregazione gruppale tra famiglie affidatarie e solidali data l’urgente necessità di “ampliare” il numero di persone e famiglie disponibili all’affidamento familiare. \nIl bisogno di incrementare il bacino dei candidati all’affidamento rappresenta una delle principali sfide a cui sono chiamati i Servizi sociosanitari.[/vc_column_text][vc_column_text el_class=”blu uppercase”]\nPartecipanti\n[/vc_column_text][vc_column_text]Operatori e referenti centri affido\, coach PIPPI\, associazioni reti di famiglie affidatarie\, associazioni attive per l’inclusione dei msna\, tutori volontari.[/vc_column_text][/vc_column][/vc_row][vc_row type=”in_container” full_screen_row_position=”middle” column_margin=”default” column_direction=”default” column_direction_tablet=”default” column_direction_phone=”default” scene_position=”center” text_color=”dark” text_align=”left” row_border_radius=”none” row_border_radius_applies=”bg” overflow=”visible” class=”programma” overlay_strength=”0.3″ gradient_direction=”left_to_right” shape_divider_position=”bottom” bg_image_animation=”none” gradient_type=”default” shape_type=””][vc_column column_padding=”no-extra-padding” column_padding_tablet=”inherit” column_padding_phone=”inherit” column_padding_position=”all” column_element_direction_desktop=”default” column_element_spacing=”default” desktop_text_alignment=”default” tablet_text_alignment=”default” phone_text_alignment=”default” background_color_opacity=”1″ background_hover_color_opacity=”1″ column_backdrop_filter=”none” column_shadow=”none” column_border_radius=”none” column_link_target=”_self” column_position=”default” gradient_direction=”left_to_right” overlay_strength=”0.3″ width=”1/1″ tablet_width_inherit=”default” animation_type=”default” bg_image_animation=”none” border_type=”simple” column_border_width=”none” column_border_style=”solid”][vc_column_text el_class=”blu uppercase”]\nPromotori\n[/vc_column_text][vc_column_text]			\n				Istituto degli Innocenti                \n			\n						\n				Centro regionale di documentazione per l’infanzia e l’adolescenza                \n			\n						\n				Regione Toscana                \n			\n						\n				Centro Studio Affidi                \n			\n			[/vc_column_text][/vc_column][/vc_row][vc_row type=”in_container” full_screen_row_position=”middle” column_margin=”default” equal_height=”yes” column_direction=”default” column_direction_tablet=”default” column_direction_phone=”default” scene_position=”center” text_color=”dark” text_align=”left” row_border_radius=”none” row_border_radius_applies=”bg” overflow=”visible” overlay_strength=”0.3″ gradient_direction=”left_to_right” shape_divider_position=”bottom” bg_image_animation=”none” gradient_type=”default” shape_type=””][vc_column top_padding_desktop=”2%” constrain_group_100=”yes” bottom_padding_desktop=”2%” left_padding_desktop=”5%” constrain_group_101=”yes” right_padding_desktop=”5%” column_element_direction_desktop=”default” column_element_spacing=”default” desktop_text_alignment=”default” tablet_text_alignment=”default” phone_text_alignment=”default” background_color=”rgba(75\,126\,188\,0.15)” background_color_opacity=”1″ background_hover_color_opacity=”1″ column_backdrop_filter=”none” column_shadow=”none” column_border_radius=”none” column_link_target=”_self” column_position=”default” gradient_direction=”left_to_right” overlay_strength=”0.3″ width=”1/2″ tablet_width_inherit=”default” animation_type=”default” bg_image_animation=”none” border_type=”simple” column_border_width=”none” column_border_style=”solid” column_padding_type=”advanced” gradient_type=”default”][vc_column_text css=”.vc_custom_1682584326234{margin-top: 15px !important;}” el_class=”blu”]\nACCEDI\n[/vc_column_text][vc_column_text css=”.vc_custom_1737627535411{margin-top: 15px !important;}”]NOTA BENE: In genere le attività (corsi\, seminari e convegni\, gruppi di lavoro) sono ad accesso riservato ed attive per un periodo di tempo limitato. Quindi puoi accedere solo se hai ricevuto le credenziali per la specifica attività\, oppure se l’attività è non riservata e non scaduta. \nPer avere informazioni sulle singole attività scrivi a:  formazione@istitutodeglinnocenti.it[/vc_column_text][nectar_btn size=”jumbo” open_new_tab=”true” button_style=”regular” button_color_2=”Accent-Color” solid_text_color_override=”#ffffff” icon_family=”none” url=”https://fad.innocentiacademy.it/” text=”ACCEDI”][/vc_column][vc_column top_padding_desktop=”2%” constrain_group_100=”yes” bottom_padding_desktop=”2%” left_padding_desktop=”5%” constrain_group_101=”yes” right_padding_desktop=”5%” column_element_direction_desktop=”default” column_element_spacing=”default” desktop_text_alignment=”default” tablet_text_alignment=”default” phone_text_alignment=”default” background_color=”rgba(75\,126\,188\,0.15)” background_color_opacity=”1″ background_hover_color_opacity=”1″ column_backdrop_filter=”none” column_shadow=”none” column_border_radius=”none” column_link_target=”_self” column_position=”default” gradient_direction=”left_to_right” overlay_strength=”0.3″ width=”1/2″ tablet_width_inherit=”default” animation_type=”default” bg_image_animation=”none” border_type=”simple” column_border_width=”none” column_border_style=”solid” column_padding_type=”advanced” gradient_type=”default”][vc_column_text css=”.vc_custom_1682584340947{margin-top: 15px !important;}” el_class=”blu”]\nISCRIVITI\n[/vc_column_text][vc_column_text css=”.vc_custom_1737627632545{margin-top: 15px !important;}”]Puoi iscriverti a questa attività solo se non riservata e non scaduta. In questo caso\, se non sei già registrato ad Innocenti Academy\, clicca sul pulsante crea un account. \nSubito dopo\, solo se l’attività è non riservata e non scaduta\, potrai iscriverti e richiedere le credenziali per l’accesso.[/vc_column_text][nectar_btn size=”jumbo” open_new_tab=”true” button_style=”regular” button_color_2=”Accent-Color” solid_text_color_override=”#ffffff” icon_family=”none” url=”https://fad.innocentiacademy.it/login/signup.php” text=”CREA UN ACCOUNT” margin_top=”30″][/vc_column][/vc_row]
URL:https://www.innocentiacademy.it/attivita/percorso-formativo-per-rilancio-affidamento-e-solidarieta-familiare/
LOCATION:Salone Brunelleschi\, Istituto degli Innocenti – Firenze\, Piazza della SS. Annunziata\, 12\, Firenze\, 50122
CATEGORIES:Corsi di Formazione
ATTACH;FMTTYPE=image/png:https://www.innocentiacademy.it/wp-content/uploads/2025/03/adozione_affido.png
ORGANIZER;CN="Istituto degli Innocenti":MAILTO:info@istitutodeglinnocenti.it
END:VEVENT
END:VCALENDAR