BEGIN:VCALENDAR
VERSION:2.0
PRODID:-//Innocenti Academy - ECPv6.14.0//NONSGML v1.0//EN
CALSCALE:GREGORIAN
METHOD:PUBLISH
X-ORIGINAL-URL:https://www.innocentiacademy.it
X-WR-CALDESC:Eventi per Innocenti Academy
REFRESH-INTERVAL;VALUE=DURATION:PT1H
X-Robots-Tag:noindex
X-PUBLISHED-TTL:PT1H
BEGIN:VTIMEZONE
TZID:Europe/Rome
BEGIN:DAYLIGHT
TZOFFSETFROM:+0100
TZOFFSETTO:+0200
TZNAME:CEST
DTSTART:20250330T010000
END:DAYLIGHT
BEGIN:STANDARD
TZOFFSETFROM:+0200
TZOFFSETTO:+0100
TZNAME:CET
DTSTART:20251026T010000
END:STANDARD
BEGIN:DAYLIGHT
TZOFFSETFROM:+0100
TZOFFSETTO:+0200
TZNAME:CEST
DTSTART:20260329T010000
END:DAYLIGHT
BEGIN:STANDARD
TZOFFSETFROM:+0200
TZOFFSETTO:+0100
TZNAME:CET
DTSTART:20261025T010000
END:STANDARD
END:VTIMEZONE
BEGIN:VEVENT
DTSTART;TZID=Europe/Rome:20250623T090000
DTEND;TZID=Europe/Rome:20260622T180000
DTSTAMP:20260425T003809
CREATED:20250529T132700Z
LAST-MODIFIED:20250715T085414Z
UID:10000241-1750669200-1782151200@www.innocentiacademy.it
SUMMARY:L’osservazione educativa nei contesti per l’infanzia da 0 a 6 anni
DESCRIPTION:[vc_row type=”in_container” full_screen_row_position=”middle” column_margin=”default” column_direction=”default” column_direction_tablet=”default” column_direction_phone=”default” scene_position=”center” text_color=”dark” text_align=”left” row_border_radius=”none” row_border_radius_applies=”bg” overflow=”visible” overlay_strength=”0.3″ gradient_direction=”left_to_right” shape_divider_position=”bottom” bg_image_animation=”none”][vc_column column_padding=”no-extra-padding” column_padding_tablet=”inherit” column_padding_phone=”inherit” column_padding_position=”all” column_element_direction_desktop=”default” column_element_spacing=”default” desktop_text_alignment=”default” tablet_text_alignment=”default” phone_text_alignment=”default” background_color_opacity=”1″ background_hover_color_opacity=”1″ column_backdrop_filter=”none” column_shadow=”none” column_border_radius=”none” column_link_target=”_self” column_position=”default” gradient_direction=”left_to_right” overlay_strength=”0.3″ width=”1/1″ tablet_width_inherit=”default” animation_type=”default” bg_image_animation=”none” border_type=”simple” column_border_width=”none” column_border_style=”solid”][vc_column_text][/vc_column_text][/vc_column][/vc_row][vc_row type=”in_container” full_screen_row_position=”middle” column_margin=”default” column_direction=”default” column_direction_tablet=”default” column_direction_phone=”default” scene_position=”center” text_color=”dark” text_align=”left” row_border_radius=”none” row_border_radius_applies=”bg” overflow=”visible” overlay_strength=”0.3″ gradient_direction=”left_to_right” shape_divider_position=”bottom” bg_image_animation=”none”][vc_column column_padding=”no-extra-padding” column_padding_tablet=”inherit” column_padding_phone=”inherit” column_padding_position=”all” column_element_direction_desktop=”default” column_element_spacing=”default” desktop_text_alignment=”default” tablet_text_alignment=”default” phone_text_alignment=”default” background_color_opacity=”1″ background_hover_color_opacity=”1″ column_backdrop_filter=”none” column_shadow=”none” column_border_radius=”none” column_link_target=”_self” column_position=”default” gradient_direction=”left_to_right” overlay_strength=”0.3″ width=”1/1″ tablet_width_inherit=”default” animation_type=”default” bg_image_animation=”none” border_type=”simple” column_border_width=”none” column_border_style=”solid”][vc_column_text el_class=”blu uppercase”]\nStrumenti\, metodi e pratiche per una progettazione educativa consapevole\n[/vc_column_text][vc_column_text]Osservare nei contesti educativi per bambini da 0 a 6 anni significa assumere uno sguardo attento\, capace di cogliere i segnali dello sviluppo e di orientare in modo consapevole l’azione educativa. Il corso propone un approccio pratico e riflessivo all’osservazione come strumento di lavoro quotidiano\, valorizzando il punto di vista del bambino e offrendo strumenti operativi per leggere\, documentare e progettare le pratiche educative.[/vc_column_text][vc_column_text el_class=”blu uppercase”]\nObiettivi\n[/vc_column_text][vc_column_text]\n\nRafforzare le competenze osservative di educatori e insegnanti.\nApprofondire la relazione tra osservazione\, progettazione e documentazione.\nMigliorare la capacità di lettura dello sviluppo cognitivo\, linguistico\, emotivo e sociale del bambino.\nFornire strumenti concreti per osservare le dinamiche relazionali nei servizi educativi 0–6.\n\n[/vc_column_text][vc_column_text el_class=”blu uppercase”]\nContenuti\n[/vc_column_text][vc_column_text]\n\nIl metodo osservativo nei contesti educativi\nApprocci teorici e metodologici all’osservazione\nValidità e attendibilità del metodo osservativo\nProgettare l’osservazione in modo sistematico\nStrumenti per osservare lo sviluppo e le relazioni\nModelli di osservazione narrativi e strutturati (checklist\, scale\, video)\n\n[/vc_column_text][vc_column_text el_class=”blu uppercase”]\nDestinatari\n[/vc_column_text][vc_column_text]Il corso si rivolge a: \n\nEducatrici ed educatori dei servizi 0–3\nInsegnanti della scuola dell’infanzia\nCoordinatori pedagogici\nFormatori e professionisti del settore educativo\n\n[/vc_column_text][vc_column_text el_class=”blu uppercase”]\nDurata e modalità di svolgimento\n[/vc_column_text][vc_column_text]20 ore di formazione asincrona suddivise in 4 moduli tematici\, disponibili sulla piattaforma FAD dell’Istituto degli Innocenti. Ogni modulo prevede attività pratiche\, materiali di approfondimento e momenti di confronto e riflessione.[/vc_column_text][/vc_column][/vc_row][vc_row type=”in_container” full_screen_row_position=”middle” column_margin=”default” column_direction=”default” column_direction_tablet=”default” column_direction_phone=”default” scene_position=”center” text_color=”dark” text_align=”left” row_border_radius=”none” row_border_radius_applies=”bg” overflow=”visible” class=”programma” overlay_strength=”0.3″ gradient_direction=”left_to_right” shape_divider_position=”bottom” bg_image_animation=”none” gradient_type=”default” shape_type=””][vc_column column_padding=”no-extra-padding” column_padding_tablet=”inherit” column_padding_phone=”inherit” column_padding_position=”all” column_element_direction_desktop=”default” column_element_spacing=”default” desktop_text_alignment=”default” tablet_text_alignment=”default” phone_text_alignment=”default” background_color_opacity=”1″ background_hover_color_opacity=”1″ column_backdrop_filter=”none” column_shadow=”none” column_border_radius=”none” column_link_target=”_self” column_position=”default” gradient_direction=”left_to_right” overlay_strength=”0.3″ width=”1/1″ tablet_width_inherit=”default” animation_type=”default” bg_image_animation=”none” border_type=”simple” column_border_width=”none” column_border_style=”solid”][vc_column_text el_class=”blu uppercase”]\nPromotori\n[/vc_column_text][vc_column_text]			\n				Istituto degli Innocenti                \n			\n			[/vc_column_text][/vc_column][/vc_row][vc_row type=”in_container” full_screen_row_position=”middle” column_margin=”default” column_direction=”default” column_direction_tablet=”default” column_direction_phone=”default” scene_position=”center” top_padding=”30px” text_color=”dark” text_align=”left” row_border_radius=”none” row_border_radius_applies=”bg” overflow=”visible” overlay_strength=”0.3″ gradient_direction=”left_to_right” shape_divider_position=”bottom” bg_image_animation=”none” gradient_type=”default” shape_type=””][vc_column column_padding=”padding-3-percent” column_padding_tablet=”inherit” column_padding_phone=”inherit” column_padding_position=”all” column_element_direction_desktop=”default” column_element_spacing=”default” desktop_text_alignment=”default” tablet_text_alignment=”default” phone_text_alignment=”default” background_color_opacity=”1″ background_hover_color_opacity=”1″ column_backdrop_filter=”none” column_shadow=”none” column_border_radius=”10px” column_link_target=”_self” column_position=”default” gradient_direction=”left_to_right” overlay_strength=”0.3″ width=”1/1″ tablet_width_inherit=”default” animation_type=”default” bg_image_animation=”none” border_type=”simple” column_border_width=”1px” column_border_color=”#4b7ebc” column_border_style=”solid” column_padding_type=”default” gradient_type=”default”][vc_column_text el_class=”blu uppercase” css=”.vc_custom_1748524631141{padding-bottom: 20px !important;}”]\nMateriali e risorse\n[/vc_column_text][vc_column_text]\n\nLezioni video e podcast\nArticoli e approfondimenti\nStrumenti osservativi da scaricare e utilizzare\nEsercitazioni guidate\nAttestato finale di partecipazione scaricabile (20 ore certificate)\n\n[/vc_column_text][/vc_column][/vc_row][vc_row type=”in_container” full_screen_row_position=”middle” column_margin=”default” column_direction=”default” column_direction_tablet=”default” column_direction_phone=”default” scene_position=”center” top_padding=”30px” text_color=”dark” text_align=”left” row_border_radius=”none” row_border_radius_applies=”bg” overflow=”visible” overlay_strength=”0.3″ gradient_direction=”left_to_right” shape_divider_position=”bottom” bg_image_animation=”none” gradient_type=”default” shape_type=””][vc_column column_padding=”padding-3-percent” column_padding_tablet=”inherit” column_padding_phone=”inherit” column_padding_position=”all” column_element_direction_desktop=”default” column_element_spacing=”default” desktop_text_alignment=”default” tablet_text_alignment=”default” phone_text_alignment=”default” background_color_opacity=”1″ background_hover_color_opacity=”1″ column_backdrop_filter=”none” column_shadow=”none” column_border_radius=”10px” column_link_target=”_self” column_position=”default” gradient_direction=”left_to_right” overlay_strength=”0.3″ width=”1/1″ tablet_width_inherit=”default” animation_type=”default” bg_image_animation=”none” border_type=”simple” column_border_width=”1px” column_border_color=”#4b7ebc” column_border_style=”solid” column_padding_type=”default” gradient_type=”default”][vc_column_text el_class=”blu uppercase” css=”.vc_custom_1748524681884{padding-bottom: 20px !important;}”]\nModalità di iscrizione\n[/vc_column_text][vc_column_text]Le iscrizioni apriranno a breve. Il corso prevede una quota di partecipazione. Il pagamento avverrà tramite bonifico bancario\, secondo le istruzioni che saranno presto comunicate su questa scheda. \nVuoi migliorare le tue competenze osservative e progettuali nei servizi per l’infanzia? Appena sarà possibile\, iscriviti al corso e segui i moduli direttamente online.\n \nAl momento in cui sarà pubblicato il form di registrazione\, compilalo subito e riceverai le istruzioni per il pagamento via bonifico.[/vc_column_text][/vc_column][/vc_row][vc_row type=”in_container” full_screen_row_position=”middle” column_margin=”default” equal_height=”yes” column_direction=”default” column_direction_tablet=”default” column_direction_phone=”default” scene_position=”center” text_color=”dark” text_align=”left” row_border_radius=”none” row_border_radius_applies=”bg” overflow=”visible” overlay_strength=”0.3″ gradient_direction=”left_to_right” shape_divider_position=”bottom” bg_image_animation=”none” gradient_type=”default” shape_type=””][vc_column top_padding_desktop=”2%” constrain_group_100=”yes” bottom_padding_desktop=”2%” left_padding_desktop=”5%” constrain_group_101=”yes” right_padding_desktop=”5%” column_element_direction_desktop=”default” column_element_spacing=”default” desktop_text_alignment=”default” tablet_text_alignment=”default” phone_text_alignment=”default” background_color=”rgba(75\,126\,188\,0.15)” background_color_opacity=”1″ background_hover_color_opacity=”1″ column_backdrop_filter=”none” column_shadow=”none” column_border_radius=”none” column_link_target=”_self” column_position=”default” gradient_direction=”left_to_right” overlay_strength=”0.3″ width=”1/2″ tablet_width_inherit=”default” animation_type=”default” bg_image_animation=”none” border_type=”simple” column_border_width=”none” column_border_style=”solid” column_padding_type=”advanced” gradient_type=”default”][vc_column_text css=”.vc_custom_1682584326234{margin-top: 15px !important;}” el_class=”blu”]\nACCEDI\n[/vc_column_text][vc_column_text css=”.vc_custom_1695379662022{margin-top: 15px !important;}”]NOTA BENE: In genere le attività (corsi\, seminari e convegni\, gruppi di lavoro) sono ad accesso riservato. Quindi puoi accedere solo se hai ricevuto le credenziali per la specifica attività\, oppure se l’attività è non riservata. \nPer avere informazioni sulle singole attività scrivi a:  formazione@istitutodeglinnocenti.it[/vc_column_text][nectar_btn size=”jumbo” open_new_tab=”true” button_style=”regular” button_color_2=”Accent-Color” solid_text_color_override=”#ffffff” icon_family=”none” url=”https://fad.innocentiacademy.it/” text=”ACCEDI”][/vc_column][vc_column top_padding_desktop=”2%” constrain_group_100=”yes” bottom_padding_desktop=”2%” left_padding_desktop=”5%” constrain_group_101=”yes” right_padding_desktop=”5%” column_element_direction_desktop=”default” column_element_spacing=”default” desktop_text_alignment=”default” tablet_text_alignment=”default” phone_text_alignment=”default” background_color=”rgba(75\,126\,188\,0.15)” background_color_opacity=”1″ background_hover_color_opacity=”1″ column_backdrop_filter=”none” column_shadow=”none” column_border_radius=”none” column_link_target=”_self” column_position=”default” gradient_direction=”left_to_right” overlay_strength=”0.3″ width=”1/2″ tablet_width_inherit=”default” animation_type=”default” bg_image_animation=”none” border_type=”simple” column_border_width=”none” column_border_style=”solid” column_padding_type=”advanced” gradient_type=”default”][vc_column_text css=”.vc_custom_1682584340947{margin-top: 15px !important;}” el_class=”blu”]\nISCRIVITI\n[/vc_column_text][vc_column_text css=”.vc_custom_1748525166951{margin-top: 15px !important;}”]Puoi iscriverti a questa attività solo se già disponibile e non riservata. In questo caso\, se non sei già registrato ad Innocenti Academy\, clicca sul pulsante crea un account. \nSubito dopo\, solo se l’attività è non riservata e online\, potrai iscriverti pagando la quota di iscrizione\, e richiedere le credenziali per l’accesso.[/vc_column_text][nectar_btn size=”jumbo” open_new_tab=”true” button_style=”regular” button_color_2=”Accent-Color” solid_text_color_override=”#ffffff” icon_family=”none” url=”https://fad.innocentiacademy.it/login/signup.php” text=”CREA UN ACCOUNT” margin_top=”30″][/vc_column][/vc_row]
URL:https://www.innocentiacademy.it/attivita/losservazione-educativa-nei-contesti-per-linfanzia-da-0-a-6-anni/
LOCATION:Innocenti Academy\, Italia
CATEGORIES:Corsi di Formazione
ATTACH;FMTTYPE=image/jpeg:https://www.innocentiacademy.it/wp-content/uploads/2025/05/seminario_Poli_infanzia.jpg
ORGANIZER;CN="Istituto degli Innocenti":MAILTO:info@istitutodeglinnocenti.it
END:VEVENT
BEGIN:VEVENT
DTSTART;TZID=Europe/Rome:20251217T093000
DTEND;TZID=Europe/Rome:20251217T130000
DTSTAMP:20260425T003809
CREATED:20251028T111600Z
LAST-MODIFIED:20251112T131525Z
UID:10000258-1765963800-1765976400@www.innocentiacademy.it
SUMMARY:ARCHITETTURE EDUCATIVE 0-6 - Progettare\, organizzare e gestire i poli per l’infanzia
DESCRIPTION:[vc_row type=”in_container” full_screen_row_position=”middle” column_margin=”default” column_direction=”default” column_direction_tablet=”default” column_direction_phone=”default” scene_position=”center” text_color=”dark” text_align=”left” row_border_radius=”none” row_border_radius_applies=”bg” overflow=”visible” overlay_strength=”0.3″ gradient_direction=”left_to_right” shape_divider_position=”bottom” bg_image_animation=”none”][vc_column column_padding=”no-extra-padding” column_padding_tablet=”inherit” column_padding_phone=”inherit” column_padding_position=”all” column_element_direction_desktop=”default” column_element_spacing=”default” desktop_text_alignment=”default” tablet_text_alignment=”default” phone_text_alignment=”default” background_color_opacity=”1″ background_hover_color_opacity=”1″ column_backdrop_filter=”none” column_shadow=”none” column_border_radius=”none” column_link_target=”_self” column_position=”default” gradient_direction=”left_to_right” overlay_strength=”0.3″ width=”1/1″ tablet_width_inherit=”default” animation_type=”default” bg_image_animation=”none” border_type=”simple” column_border_width=”none” column_border_style=”solid”][vc_column_text]Il convegno rappresenta l’ultimo passo del lavoro del Tavolo interistituzionale – che vede la partecipazione di Regione Toscana (con funzioni di coordinamento)\, USR Toscana\, Istituto degli Innocenti\, INDIRE\, le Centrali cooperative toscane\, le istituzioni scolastiche e i referenti degli organismi di coordinamento territoriale – impegnato nella definizione degli Orientamenti sugli spazi educativi nei poli per l’infanzia. L’incontro sarà l’occasione per riflettere sull’importanza dello spazio come elemento educativo non neutro ma determinante\, e per condividere esempi concreti di progettazione già realizzati o in corso di realizzazione. Sarà un momento di confronto costruttivo\, utile a delineare nuove prospettive a sostegno dei diritti delle bambine\, dei bambini e delle loro famiglie.[/vc_column_text][/vc_column][/vc_row][vc_row type=”in_container” full_screen_row_position=”middle” column_margin=”default” column_direction=”default” column_direction_tablet=”default” column_direction_phone=”default” scene_position=”center” text_color=”dark” text_align=”left” row_border_radius=”none” row_border_radius_applies=”bg” overflow=”visible” overlay_strength=”0.3″ gradient_direction=”left_to_right” shape_divider_position=”bottom” bg_image_animation=”none”][vc_column column_padding=”no-extra-padding” column_padding_tablet=”inherit” column_padding_phone=”inherit” column_padding_position=”all” column_element_direction_desktop=”default” column_element_spacing=”default” desktop_text_alignment=”default” tablet_text_alignment=”default” phone_text_alignment=”default” background_color_opacity=”1″ background_hover_color_opacity=”1″ column_backdrop_filter=”none” column_shadow=”none” column_border_radius=”none” column_link_target=”_self” column_position=”default” gradient_direction=”left_to_right” overlay_strength=”0.3″ width=”1/1″ tablet_width_inherit=”default” animation_type=”default” bg_image_animation=”none” border_type=”simple” column_border_width=”none” column_border_style=”solid”][vc_column_text el_class=”blu uppercase”]\nFinalità\n[/vc_column_text][vc_column_text]Presentazione Volume ARCHITETTURE EDUCATIVE 0-6 Progettare\, organizzare e gestire i poli per l’infanzia\, presentazione degli ORIENTAMENTI PER LA PROGETTAZIONE DEI POLI PER L’INFANZIA.[/vc_column_text][vc_column_text el_class=”blu uppercase”]\nProgramma\n[/vc_column_text][vc_column_text]09.30 Saluti istituzionali \n10.00 Introduce e coordina \nSara Mele\,Dirigente Settore Educazione e Istruzione\, Regione Toscana \n10.30 Interventi \nLo spazio come cardine fondamentale del progetto educativo\nAldo Fortunati\, già Direttore Area Documentazione\, Ricerca e Formazione\, Istituto degli Innocenti di Firenze \nPoli per l’infanzia come occasione per ripensare. L’architettura dei servizi educativi\nGiovanni Fumagalli\, Architetto \nIl sistema integrato 0-6 in toscana: un processo di costruzione partecipata\nJessica Magrini\, Regione Toscana \nConfigurazioni spaziali e dispositivi pedagogici:il cammino dei poli integrati 0-6\nAlessia Rosa\, INDIRE – Istituto nazionale di documentazione\, innovazione e ricerca educativa \nOrientamenti per la progettazione dei poli per l’infanzia\nSerena Franchi\, Ricercatrice Istituto degli Innocenti \n12.30 Discussione/Interventi dalla sala \n13.00 Conclusioni dei lavori[/vc_column_text][vc_column_text el_class=”blu uppercase”]\nDestinatari\n[/vc_column_text][vc_column_text]Coordinamenti\, referenti\, scuole e nidi d’infanzia\, IC\, Poli[/vc_column_text][/vc_column][/vc_row][vc_row type=”in_container” full_screen_row_position=”middle” column_margin=”default” column_direction=”default” column_direction_tablet=”default” column_direction_phone=”default” scene_position=”center” text_color=”dark” text_align=”left” row_border_radius=”none” row_border_radius_applies=”bg” overflow=”visible” class=”programma” overlay_strength=”0.3″ gradient_direction=”left_to_right” shape_divider_position=”bottom” bg_image_animation=”none” gradient_type=”default” shape_type=””][vc_column column_padding=”no-extra-padding” column_padding_tablet=”inherit” column_padding_phone=”inherit” column_padding_position=”all” column_element_direction_desktop=”default” column_element_spacing=”default” desktop_text_alignment=”default” tablet_text_alignment=”default” phone_text_alignment=”default” background_color_opacity=”1″ background_hover_color_opacity=”1″ column_backdrop_filter=”none” column_shadow=”none” column_border_radius=”none” column_link_target=”_self” column_position=”default” gradient_direction=”left_to_right” overlay_strength=”0.3″ width=”1/1″ tablet_width_inherit=”default” animation_type=”default” bg_image_animation=”none” border_type=”simple” column_border_width=”none” column_border_style=”solid”][vc_column_text el_class=”blu uppercase”]\nPromotori\n[/vc_column_text][vc_column_text]			\n				Istituto degli Innocenti                \n			\n			[/vc_column_text][/vc_column][/vc_row][vc_row type=”in_container” full_screen_row_position=”middle” column_margin=”default” equal_height=”yes” column_direction=”default” column_direction_tablet=”default” column_direction_phone=”default” scene_position=”center” top_padding=”30px” text_color=”dark” text_align=”left” row_border_radius=”none” row_border_radius_applies=”bg” overflow=”visible” overlay_strength=”0.3″ gradient_direction=”left_to_right” shape_divider_position=”bottom” bg_image_animation=”none” gradient_type=”default” shape_type=””][vc_column top_padding_desktop=”2%” constrain_group_100=”yes” bottom_padding_desktop=”2%” left_padding_desktop=”5%” constrain_group_101=”yes” right_padding_desktop=”5%” column_element_direction_desktop=”default” column_element_spacing=”default” desktop_text_alignment=”default” tablet_text_alignment=”default” phone_text_alignment=”default” background_color=”rgba(75\,126\,188\,0.15)” background_color_opacity=”1″ background_hover_color_opacity=”1″ column_backdrop_filter=”none” column_shadow=”none” column_border_radius=”none” column_link_target=”_self” column_position=”default” gradient_direction=”left_to_right” overlay_strength=”0.3″ width=”1/2″ tablet_width_inherit=”default” animation_type=”default” bg_image_animation=”none” border_type=”simple” column_border_width=”none” column_border_style=”solid” column_padding_type=”advanced” gradient_type=”default”][vc_column_text css=”.vc_custom_1682584326234{margin-top: 15px !important;}” el_class=”blu”]\nACCEDI\n[/vc_column_text][vc_column_text css=”.vc_custom_1737132805231{margin-top: 15px !important;}”]NOTA BENE: In genere le attività (corsi\, seminari e convegni\, gruppi di lavoro) sono ad accesso riservato ed attive per un periodo di tempo limitato. Quindi puoi accedere solo se hai ricevuto le credenziali per la specifica attività\, oppure se l’attività è non riservata e non scaduta. \nPer avere informazioni sulle singole attività scrivi a:  formazione@istitutodeglinnocenti.it[/vc_column_text][nectar_btn size=”jumbo” open_new_tab=”true” button_style=”regular” button_color_2=”Accent-Color” solid_text_color_override=”#ffffff” icon_family=”none” url=”https://fad.innocentiacademy.it/login/” text=”ACCEDI”][/vc_column][vc_column top_padding_desktop=”2%” constrain_group_100=”yes” bottom_padding_desktop=”2%” left_padding_desktop=”5%” constrain_group_101=”yes” right_padding_desktop=”5%” column_element_direction_desktop=”default” column_element_spacing=”default” desktop_text_alignment=”default” tablet_text_alignment=”default” phone_text_alignment=”default” background_color=”rgba(75\,126\,188\,0.15)” background_color_opacity=”1″ background_hover_color_opacity=”1″ column_backdrop_filter=”none” column_shadow=”none” column_border_radius=”none” column_link_target=”_self” column_position=”default” gradient_direction=”left_to_right” overlay_strength=”0.3″ width=”1/2″ tablet_width_inherit=”default” animation_type=”default” bg_image_animation=”none” border_type=”simple” column_border_width=”none” column_border_style=”solid” column_padding_type=”advanced” gradient_type=”default”][vc_column_text css=”.vc_custom_1682584340947{margin-top: 15px !important;}” el_class=”blu”]\nISCRIVITI\n[/vc_column_text][vc_column_text css=”.vc_custom_1737132821696{margin-top: 15px !important;}”]Puoi iscriverti a questa attività solo se non riservata e non scaduta. In questo caso\, se non sei già registrato ad Innocenti Academy\, clicca sul pulsante crea un account. \nSubito dopo\, solo se l’attività è non riservata e non scaduta\, potrai iscriverti e richiedere le credenziali per l’accesso.[/vc_column_text][nectar_btn size=”jumbo” open_new_tab=”true” button_style=”regular” button_color_2=”Accent-Color” solid_text_color_override=”#ffffff” icon_family=”none” url=”https://fad.innocentiacademy.it/login/signup.php” text=”CREA UN ACCOUNT”][/vc_column][/vc_row]
URL:https://www.innocentiacademy.it/attivita/architetture-educative-0-6-progettare-organizzare-e-gestire-i-poli-per-linfanzia/
LOCATION:Salone Brunelleschi\, Istituto degli Innocenti – Firenze\, Piazza della SS. Annunziata\, 12\, Firenze\, 50122
CATEGORIES:Seminari e Convegni
ATTACH;FMTTYPE=image/png:https://www.innocentiacademy.it/wp-content/uploads/2025/01/Educazione-zero-sei-2.png
ORGANIZER;CN="Regione Toscana":MAILTO:urp@regione.toscana.it
END:VEVENT
END:VCALENDAR