BEGIN:VCALENDAR
VERSION:2.0
PRODID:-//Innocenti Academy - ECPv6.14.0//NONSGML v1.0//EN
CALSCALE:GREGORIAN
METHOD:PUBLISH
X-ORIGINAL-URL:https://www.innocentiacademy.it
X-WR-CALDESC:Eventi per Innocenti Academy
REFRESH-INTERVAL;VALUE=DURATION:PT1H
X-Robots-Tag:noindex
X-PUBLISHED-TTL:PT1H
BEGIN:VTIMEZONE
TZID:Europe/Rome
BEGIN:DAYLIGHT
TZOFFSETFROM:+0100
TZOFFSETTO:+0200
TZNAME:CEST
DTSTART:20250330T010000
END:DAYLIGHT
BEGIN:STANDARD
TZOFFSETFROM:+0200
TZOFFSETTO:+0100
TZNAME:CET
DTSTART:20251026T010000
END:STANDARD
END:VTIMEZONE
BEGIN:VEVENT
DTSTART;TZID=Europe/Rome:20251022T093000
DTEND;TZID=Europe/Rome:20251209T123000
DTSTAMP:20260424T210549
CREATED:20251009T110906Z
LAST-MODIFIED:20251014T095747Z
UID:10000257-1761125400-1765283400@www.innocentiacademy.it
SUMMARY:Educativa di strada per DeSTEENazione
DESCRIPTION:[vc_row type=”in_container” full_screen_row_position=”middle” column_margin=”default” column_direction=”default” column_direction_tablet=”default” column_direction_phone=”default” scene_position=”center” text_color=”dark” text_align=”left” row_border_radius=”none” row_border_radius_applies=”bg” overflow=”visible” overlay_strength=”0.3″ gradient_direction=”left_to_right” shape_divider_position=”bottom” bg_image_animation=”none”][vc_column column_padding=”no-extra-padding” column_padding_tablet=”inherit” column_padding_phone=”inherit” column_padding_position=”all” column_element_direction_desktop=”default” column_element_spacing=”default” desktop_text_alignment=”default” tablet_text_alignment=”default” phone_text_alignment=”default” background_color_opacity=”1″ background_hover_color_opacity=”1″ column_backdrop_filter=”none” column_shadow=”none” column_border_radius=”none” column_link_target=”_self” column_position=”default” gradient_direction=”left_to_right” overlay_strength=”0.3″ width=”1/1″ tablet_width_inherit=”default” animation_type=”default” bg_image_animation=”none” border_type=”simple” column_border_width=”none” column_border_style=”solid”][vc_column_text]Ciclo di formazione di approfondimento Educativa di strada per DeSTEENazione \nLa forza del lavoro di strada è rappresentata dal suo setting informale\, non strutturato\, non istituzionalizzato\, dalla capacità di configurare un intervento evolutivo all’interno di un osservatorio privilegiato del mondo adolescenziale\, che si esprime facendo emergere i bisogni in tempo reale\, e su cui è possibile intervenire tempestivamente\, prevenendo fenomeni sociali\, rischiosi per la salute e il benessere degli adolescenti\, svelando persone che non sono state intercettate dalle varie agenzie educative scolastiche e dai servizi o che se ne sono allontanate perché deluse o perché semplicemente non sanno che hanno il diritto di chiedere e ricevere aiuto. \nSono previsti i seguenti incontri (in alcuni di essi è prevista la divisione degli ATS in gruppi): \n\n1° incontro – Modulo 1 – 22 ottobre 2025  (dalle 10.00 alle 12.00)\n2° incontro – Modulo 2 – 30 ottobre 2025  (dalle 10.00 alle 13.00)\n3° incontro – Modulo 3 – 6 novembre 2025 (dalle 10.00 alle 13.00)\n4° incontro – Modulo 3 – Gruppo A – 10 novembre 2025 (dalle 10.00 alle 13.00)\n5° incontro – Modulo 3 – Gruppo B – 12 novembre 2025 (dalle 10.00 alle 13.00)\n6° incontro – Modulo 3 – Gruppo C – 13 novembre 2025 (dalle 10.00 alle 13.00)\n7° incontro – Modulo 4 – Gruppo A – data da definirsi\n8° incontro – Modulo 4 – Gruppo B – data da definirsi\n9° incontro – Modulo 4 – Gruppo C – data da definirsi\n10° incontro – Modulo 5 – Gruppo A – data da definirsi\n11° incontro – Modulo 5 – Gruppo B – data da definirsi\n12° incontro – Modulo 5 – Gruppo C – data da definirsi\n\n[/vc_column_text][vc_column_text el_class=”blu uppercase”]\nFinalità\n[/vc_column_text][vc_column_text]Il ciclo formativo ha come finalità di approfondire i presupposti metodologici\, gli obiettivi\, le forme di attività e la governance dei progetti di educativa di strada che si realizzeranno nell’ambito del progetto DesTEENazione declinandoli in funzione delle diversità territoriali in termini di esperienze e di specificità territoriale e attivando processi di protagonismo giovanile attraverso i quali i ragazzi e le ragazze possono farsi portatori di una visione del mondo autorevole\, riconoscibile da tutta la comunità con la quale saranno attivati processi di coinvolgimento e di ritessitura di relazioni. \nIl ciclo di formazione è pensato per accompagnare i coordinatori dei progetti e gli operatori coinvolti.[/vc_column_text][vc_column_text el_class=”blu uppercase”]\nDestinatari\n[/vc_column_text][vc_column_text]I Coordinatori e gli operatori dei 60 ATS di Desteenazione.[/vc_column_text][/vc_column][/vc_row][vc_row type=”in_container” full_screen_row_position=”middle” column_margin=”default” column_direction=”default” column_direction_tablet=”default” column_direction_phone=”default” scene_position=”center” text_color=”dark” text_align=”left” row_border_radius=”none” row_border_radius_applies=”bg” overflow=”visible” class=”programma” overlay_strength=”0.3″ gradient_direction=”left_to_right” shape_divider_position=”bottom” bg_image_animation=”none” gradient_type=”default” shape_type=””][vc_column column_padding=”no-extra-padding” column_padding_tablet=”inherit” column_padding_phone=”inherit” column_padding_position=”all” column_element_direction_desktop=”default” column_element_spacing=”default” desktop_text_alignment=”default” tablet_text_alignment=”default” phone_text_alignment=”default” background_color_opacity=”1″ background_hover_color_opacity=”1″ column_backdrop_filter=”none” column_shadow=”none” column_border_radius=”none” column_link_target=”_self” column_position=”default” gradient_direction=”left_to_right” overlay_strength=”0.3″ width=”1/1″ tablet_width_inherit=”default” animation_type=”default” bg_image_animation=”none” border_type=”simple” column_border_width=”none” column_border_style=”solid”][vc_column_text el_class=”blu uppercase”]\nPromotori\n[/vc_column_text][vc_column_text]			\n				Istituto degli Innocenti                \n			\n						\n				Ministero del lavoro e delle politiche sociali                \n			\n			[/vc_column_text][/vc_column][/vc_row][vc_row type=”in_container” full_screen_row_position=”middle” column_margin=”default” equal_height=”yes” column_direction=”default” column_direction_tablet=”default” column_direction_phone=”default” scene_position=”center” text_color=”dark” text_align=”left” row_border_radius=”none” row_border_radius_applies=”bg” overflow=”visible” overlay_strength=”0.3″ gradient_direction=”left_to_right” shape_divider_position=”bottom” bg_image_animation=”none” gradient_type=”default” shape_type=””][vc_column top_padding_desktop=”2%” constrain_group_100=”yes” bottom_padding_desktop=”2%” left_padding_desktop=”5%” constrain_group_101=”yes” right_padding_desktop=”5%” column_element_direction_desktop=”default” column_element_spacing=”default” desktop_text_alignment=”default” tablet_text_alignment=”default” phone_text_alignment=”default” background_color=”rgba(75\,126\,188\,0.15)” background_color_opacity=”1″ background_hover_color_opacity=”1″ column_backdrop_filter=”none” column_shadow=”none” column_border_radius=”none” column_link_target=”_self” column_position=”default” gradient_direction=”left_to_right” overlay_strength=”0.3″ width=”1/2″ tablet_width_inherit=”default” animation_type=”default” bg_image_animation=”none” border_type=”simple” column_border_width=”none” column_border_style=”solid” column_padding_type=”advanced” gradient_type=”default”][vc_column_text css=”.vc_custom_1682584326234{margin-top: 15px !important;}” el_class=”blu”]\nACCEDI\n[/vc_column_text][vc_column_text css=”.vc_custom_1737627535411{margin-top: 15px !important;}”]NOTA BENE: In genere le attività (corsi\, seminari e convegni\, gruppi di lavoro) sono ad accesso riservato ed attive per un periodo di tempo limitato. Quindi puoi accedere solo se hai ricevuto le credenziali per la specifica attività\, oppure se l’attività è non riservata e non scaduta. \nPer avere informazioni sulle singole attività scrivi a:  formazione@istitutodeglinnocenti.it[/vc_column_text][nectar_btn size=”jumbo” open_new_tab=”true” button_style=”regular” button_color_2=”Accent-Color” solid_text_color_override=”#ffffff” icon_family=”none” url=”https://fad.innocentiacademy.it/” text=”ACCEDI”][/vc_column][vc_column top_padding_desktop=”2%” constrain_group_100=”yes” bottom_padding_desktop=”2%” left_padding_desktop=”5%” constrain_group_101=”yes” right_padding_desktop=”5%” column_element_direction_desktop=”default” column_element_spacing=”default” desktop_text_alignment=”default” tablet_text_alignment=”default” phone_text_alignment=”default” background_color=”rgba(75\,126\,188\,0.15)” background_color_opacity=”1″ background_hover_color_opacity=”1″ column_backdrop_filter=”none” column_shadow=”none” column_border_radius=”none” column_link_target=”_self” column_position=”default” gradient_direction=”left_to_right” overlay_strength=”0.3″ width=”1/2″ tablet_width_inherit=”default” animation_type=”default” bg_image_animation=”none” border_type=”simple” column_border_width=”none” column_border_style=”solid” column_padding_type=”advanced” gradient_type=”default”][vc_column_text css=”.vc_custom_1682584340947{margin-top: 15px !important;}” el_class=”blu”]\nISCRIVITI\n[/vc_column_text][vc_column_text css=”.vc_custom_1737627632545{margin-top: 15px !important;}”]Puoi iscriverti a questa attività solo se non riservata e non scaduta. In questo caso\, se non sei già registrato ad Innocenti Academy\, clicca sul pulsante crea un account. \nSubito dopo\, solo se l’attività è non riservata e non scaduta\, potrai iscriverti e richiedere le credenziali per l’accesso.[/vc_column_text][nectar_btn size=”jumbo” open_new_tab=”true” button_style=”regular” button_color_2=”Accent-Color” solid_text_color_override=”#ffffff” icon_family=”none” url=”https://fad.innocentiacademy.it/login/signup.php” text=”CREA UN ACCOUNT” margin_top=”30″][/vc_column][/vc_row]
URL:https://www.innocentiacademy.it/attivita/ciclo-di-formazione-di-approfondimento-educativa-di-strada-per-desteenazione/
CATEGORIES:Corsi di Formazione
ATTACH;FMTTYPE=image/png:https://www.innocentiacademy.it/wp-content/uploads/2025/10/DesTEENazione2.png
ORGANIZER;CN="Istituto degli Innocenti":MAILTO:info@istitutodeglinnocenti.it
END:VEVENT
END:VCALENDAR