BEGIN:VCALENDAR
VERSION:2.0
PRODID:-//Innocenti Academy - ECPv6.14.0//NONSGML v1.0//EN
CALSCALE:GREGORIAN
METHOD:PUBLISH
X-ORIGINAL-URL:https://www.innocentiacademy.it
X-WR-CALDESC:Eventi per Innocenti Academy
REFRESH-INTERVAL;VALUE=DURATION:PT1H
X-Robots-Tag:noindex
X-PUBLISHED-TTL:PT1H
BEGIN:VTIMEZONE
TZID:Europe/Rome
BEGIN:DAYLIGHT
TZOFFSETFROM:+0100
TZOFFSETTO:+0200
TZNAME:CEST
DTSTART:20250330T010000
END:DAYLIGHT
BEGIN:STANDARD
TZOFFSETFROM:+0200
TZOFFSETTO:+0100
TZNAME:CET
DTSTART:20251026T010000
END:STANDARD
END:VTIMEZONE
BEGIN:VEVENT
DTSTART;TZID=Europe/Rome:20251122T090000
DTEND;TZID=Europe/Rome:20251122T163000
DTSTAMP:20260425T061306
CREATED:20251119T100600Z
LAST-MODIFIED:20251119T100600Z
UID:10000267-1763802000-1763829000@www.innocentiacademy.it
SUMMARY:Da 0 a 6 anni: sguardi attuali e futuri sulla continuità educativo-didattica a Sassari - Impegni comuni per un’offerta formativa di qualità
DESCRIPTION:[vc_row type=”in_container” full_screen_row_position=”middle” column_margin=”default” column_direction=”default” column_direction_tablet=”default” column_direction_phone=”default” scene_position=”center” text_color=”dark” text_align=”left” row_border_radius=”none” row_border_radius_applies=”bg” overflow=”visible” overlay_strength=”0.3″ gradient_direction=”left_to_right” shape_divider_position=”bottom” bg_image_animation=”none”][vc_column column_padding=”no-extra-padding” column_padding_tablet=”inherit” column_padding_phone=”inherit” column_padding_position=”all” column_element_direction_desktop=”default” column_element_spacing=”default” desktop_text_alignment=”default” tablet_text_alignment=”default” phone_text_alignment=”default” background_color_opacity=”1″ background_hover_color_opacity=”1″ column_backdrop_filter=”none” column_shadow=”none” column_border_radius=”none” column_link_target=”_self” column_position=”default” gradient_direction=”left_to_right” overlay_strength=”0.3″ width=”1/1″ tablet_width_inherit=”default” animation_type=”default” bg_image_animation=”none” border_type=”simple” column_border_width=”none” column_border_style=”solid” column_padding_type=”default” gradient_type=”default”][vc_column_text]Da 0 a 6 anni: sguardi attuali e futuri sulla continuità educativo-didattica a Sassari – Impegni comuni per un’offerta formativa di qualità \nDurante il convegno si intende condividere aspetti teorici e pratici sulla continuità educativa e didattica da 0 a 6 anni. \nIn particolare l’evento è stato organizzato per presentare alcune sperimentazioni condotte a livello locale sul tema oggetto dell’incontro.[/vc_column_text][/vc_column][/vc_row][vc_row type=”in_container” full_screen_row_position=”middle” column_margin=”default” column_direction=”default” column_direction_tablet=”default” column_direction_phone=”default” scene_position=”center” text_color=”dark” text_align=”left” row_border_radius=”none” row_border_radius_applies=”bg” overflow=”visible” overlay_strength=”0.3″ gradient_direction=”left_to_right” shape_divider_position=”bottom” bg_image_animation=”none”][vc_column column_padding=”no-extra-padding” column_padding_tablet=”inherit” column_padding_phone=”inherit” column_padding_position=”all” column_element_direction_desktop=”default” column_element_spacing=”default” desktop_text_alignment=”default” tablet_text_alignment=”default” phone_text_alignment=”default” background_color_opacity=”1″ background_hover_color_opacity=”1″ column_backdrop_filter=”none” column_shadow=”none” column_border_radius=”none” column_link_target=”_self” column_position=”default” gradient_direction=”left_to_right” overlay_strength=”0.3″ width=”1/1″ tablet_width_inherit=”default” animation_type=”default” bg_image_animation=”none” border_type=”simple” column_border_width=”none” column_border_style=”solid”][vc_column_text el_class=”blu uppercase”]\nProgramma\n[/vc_column_text][vc_column_text]09.00 Accoglienza e registrazione dei partecipanti \n09.15 Saluti Istituzionali \nMaria Nicoletta Puggioni\, Assessora alla cultura\, marketing turistico\, politiche educative\, giovanili e sportive – Comune di Sassari\nDaniela Pillitu\, Responsabile sistema 0-6\, supporto alla frequenza e all’inclusione scolastica – Regione Sardegna\n[…] Ufficio Scolastico Regionale per la Sardegna\nGiuseppe Filippo Dettori\, Presidente Corso di Studio Scienze dell’educazione – Università degli Studi di Sassari \n10.00 Interventi \nMaurizio Parente\, IDI\, Ripensare la continuità educativa da 0 a 6 anni: un percorso e possibili prospettive\nRita Sedda\, Referente del Gruppo Nidi e Infanzia della Sardegna\, Costruire reti interistituzionali per rafforzare il diritto all’educazione delle bambine e dei bambini \n11.00 Coffee break \n11.30 Interventi \nFrancesca Podda\, Componente del CPT di Sassari\, Il Coordinamento Pedagogico Territoriale del Comune di Sassari: sua istituzione e scenari futuri\nZeroseiUp\, L’importanza di un percorso formativo in prospettiva 0-6 \n12.30 Dibattito \n13.00 Pausa pranzo \n14.15 Introduzione ai lavori del pomeriggio \nEsperienza del comune di Quartu Sant’Elena \nTavola rotonda: Esperienze educativo-didattiche a confronto \nNido d’infanzia privato convenzionato Piccoli Passi e I.C. Pertini-Biasi\nNido d’infanzia comunale via Onida e I.C. Li Punti\nNido d’infanzia privato e Scuola dell’infanzia paritaria Marta Mameli \n16.30 Conclusione dei lavori[/vc_column_text][vc_column_text el_class=”blu uppercase”]\nDestinatari\n[/vc_column_text][vc_column_text]Docenti\, personale educativo\, dirigenti scolastici\, coordinatori pedagogici.[/vc_column_text][/vc_column][/vc_row][vc_row type=”in_container” full_screen_row_position=”middle” column_margin=”default” column_direction=”default” column_direction_tablet=”default” column_direction_phone=”default” scene_position=”center” text_color=”dark” text_align=”left” row_border_radius=”none” row_border_radius_applies=”bg” overflow=”visible” class=”programma” overlay_strength=”0.3″ gradient_direction=”left_to_right” shape_divider_position=”bottom” bg_image_animation=”none” gradient_type=”default” shape_type=””][vc_column column_padding=”no-extra-padding” column_padding_tablet=”inherit” column_padding_phone=”inherit” column_padding_position=”all” column_element_direction_desktop=”default” column_element_spacing=”default” desktop_text_alignment=”default” tablet_text_alignment=”default” phone_text_alignment=”default” background_color_opacity=”1″ background_hover_color_opacity=”1″ column_backdrop_filter=”none” column_shadow=”none” column_border_radius=”none” column_link_target=”_self” column_position=”default” gradient_direction=”left_to_right” overlay_strength=”0.3″ width=”1/1″ tablet_width_inherit=”default” animation_type=”default” bg_image_animation=”none” border_type=”simple” column_border_width=”none” column_border_style=”solid”][vc_column_text el_class=”blu uppercase”]\nPromotori\n[/vc_column_text][vc_column_text]			\n				Istituto degli Innocenti                \n			\n						\n				Comune de l’Aquila                \n			\n			[/vc_column_text][/vc_column][/vc_row][vc_row type=”in_container” full_screen_row_position=”middle” column_margin=”default” equal_height=”yes” column_direction=”default” column_direction_tablet=”default” column_direction_phone=”default” scene_position=”center” top_padding=”30px” text_color=”dark” text_align=”left” row_border_radius=”none” row_border_radius_applies=”bg” overflow=”visible” overlay_strength=”0.3″ gradient_direction=”left_to_right” shape_divider_position=”bottom” bg_image_animation=”none” gradient_type=”default” shape_type=””][vc_column top_padding_desktop=”2%” constrain_group_100=”yes” bottom_padding_desktop=”2%” left_padding_desktop=”5%” constrain_group_101=”yes” right_padding_desktop=”5%” column_element_direction_desktop=”default” column_element_spacing=”default” desktop_text_alignment=”default” tablet_text_alignment=”default” phone_text_alignment=”default” background_color=”rgba(75\,126\,188\,0.15)” background_color_opacity=”1″ background_hover_color_opacity=”1″ column_backdrop_filter=”none” column_shadow=”none” column_border_radius=”none” column_link_target=”_self” column_position=”default” gradient_direction=”left_to_right” overlay_strength=”0.3″ width=”1/2″ tablet_width_inherit=”default” animation_type=”default” bg_image_animation=”none” border_type=”simple” column_border_width=”none” column_border_style=”solid” column_padding_type=”advanced” gradient_type=”default”][vc_column_text css=”.vc_custom_1682584326234{margin-top: 15px !important;}” el_class=”blu”]\nACCEDI\n[/vc_column_text][vc_column_text css=”.vc_custom_1737132805231{margin-top: 15px !important;}”]NOTA BENE: In genere le attività (corsi\, seminari e convegni\, gruppi di lavoro) sono ad accesso riservato ed attive per un periodo di tempo limitato. Quindi puoi accedere solo se hai ricevuto le credenziali per la specifica attività\, oppure se l’attività è non riservata e non scaduta. \nPer avere informazioni sulle singole attività scrivi a:  formazione@istitutodeglinnocenti.it[/vc_column_text][nectar_btn size=”jumbo” open_new_tab=”true” button_style=”regular” button_color_2=”Accent-Color” solid_text_color_override=”#ffffff” icon_family=”none” url=”https://fad.innocentiacademy.it/login/” text=”ACCEDI”][/vc_column][vc_column top_padding_desktop=”2%” constrain_group_100=”yes” bottom_padding_desktop=”2%” left_padding_desktop=”5%” constrain_group_101=”yes” right_padding_desktop=”5%” column_element_direction_desktop=”default” column_element_spacing=”default” desktop_text_alignment=”default” tablet_text_alignment=”default” phone_text_alignment=”default” background_color=”rgba(75\,126\,188\,0.15)” background_color_opacity=”1″ background_hover_color_opacity=”1″ column_backdrop_filter=”none” column_shadow=”none” column_border_radius=”none” column_link_target=”_self” column_position=”default” gradient_direction=”left_to_right” overlay_strength=”0.3″ width=”1/2″ tablet_width_inherit=”default” animation_type=”default” bg_image_animation=”none” border_type=”simple” column_border_width=”none” column_border_style=”solid” column_padding_type=”advanced” gradient_type=”default”][vc_column_text css=”.vc_custom_1682584340947{margin-top: 15px !important;}” el_class=”blu”]\nISCRIVITI\n[/vc_column_text][vc_column_text css=”.vc_custom_1737132821696{margin-top: 15px !important;}”]Puoi iscriverti a questa attività solo se non riservata e non scaduta. In questo caso\, se non sei già registrato ad Innocenti Academy\, clicca sul pulsante crea un account. \nSubito dopo\, solo se l’attività è non riservata e non scaduta\, potrai iscriverti e richiedere le credenziali per l’accesso.[/vc_column_text][nectar_btn size=”jumbo” open_new_tab=”true” button_style=”regular” button_color_2=”Accent-Color” solid_text_color_override=”#ffffff” icon_family=”none” url=”https://fad.innocentiacademy.it/login/signup.php” text=”CREA UN ACCOUNT”][/vc_column][/vc_row]
URL:https://www.innocentiacademy.it/attivita/da-0-a-6-anni-sguardi-attuali-e-futuri-sulla-continuita-educativo-didattica-a-sassari-impegni-comuni-per-unofferta-formativa-di-qualita/
LOCATION:Ex-Ma\, via Maurizio Zanfarino\, 62\, SASSARI
CATEGORIES:Seminari e Convegni
ATTACH;FMTTYPE=image/png:https://www.innocentiacademy.it/wp-content/uploads/2025/01/Educazione-zero-sei-2.png
END:VEVENT
END:VCALENDAR