BEGIN:VCALENDAR
VERSION:2.0
PRODID:-//Innocenti Academy - ECPv6.14.0//NONSGML v1.0//EN
CALSCALE:GREGORIAN
METHOD:PUBLISH
X-ORIGINAL-URL:https://www.innocentiacademy.it
X-WR-CALDESC:Eventi per Innocenti Academy
REFRESH-INTERVAL;VALUE=DURATION:PT1H
X-Robots-Tag:noindex
X-PUBLISHED-TTL:PT1H
BEGIN:VTIMEZONE
TZID:Europe/Rome
BEGIN:DAYLIGHT
TZOFFSETFROM:+0100
TZOFFSETTO:+0200
TZNAME:CEST
DTSTART:20260329T010000
END:DAYLIGHT
BEGIN:STANDARD
TZOFFSETFROM:+0200
TZOFFSETTO:+0100
TZNAME:CET
DTSTART:20261025T010000
END:STANDARD
END:VTIMEZONE
BEGIN:VEVENT
DTSTART;TZID=Europe/Rome:20260225T140000
DTEND;TZID=Europe/Rome:20260526T170000
DTSTAMP:20260424T135225
CREATED:20260121T110730Z
LAST-MODIFIED:20260121T110730Z
UID:10000273-1772028000-1779814800@www.innocentiacademy.it
SUMMARY:Costruire il Modello operativo regionale per la realizzazione dei Percorsi dell’accoglienza residenziale
DESCRIPTION:[vc_row type=”in_container” full_screen_row_position=”middle” column_margin=”default” column_direction=”default” column_direction_tablet=”default” column_direction_phone=”default” scene_position=”center” text_color=”dark” text_align=”left” row_border_radius=”none” row_border_radius_applies=”bg” overflow=”visible” overlay_strength=”0.3″ gradient_direction=”left_to_right” shape_divider_position=”bottom” bg_image_animation=”none”][vc_column column_padding=”no-extra-padding” column_padding_tablet=”inherit” column_padding_phone=”inherit” column_padding_position=”all” column_element_direction_desktop=”default” column_element_spacing=”default” desktop_text_alignment=”default” tablet_text_alignment=”default” phone_text_alignment=”default” background_color_opacity=”1″ background_hover_color_opacity=”1″ column_backdrop_filter=”none” column_shadow=”none” column_border_radius=”none” column_link_target=”_self” column_position=”default” gradient_direction=”left_to_right” overlay_strength=”0.3″ width=”1/1″ tablet_width_inherit=”default” animation_type=”default” bg_image_animation=”none” border_type=”simple” column_border_width=”none” column_border_style=”solid”][vc_column_text]Costruire il Modello operativo regionale per la realizzazione dei Percorsi dell’accoglienza residenziale \nLa finalità generale del percorso formativo proposto è quella di promuovere e rafforzare il modello regionale toscano in materia di affidamento dei minori nei servizi residenziali\, valorizzando sia il percorso di presa in carico multi-professionale\, sia il sistema di interazioni tra gli attori che a vario titolo concorrono alla realizzazione del sistema di protezione e sostegno all’autonomia. \nIn particolare\, l’obiettivo principale del percorso formativo e di accompagnamento è quello di definire le modalità attuative dei Percorsi dell’accoglienza residenziale\, secondo gli orientamenti di indirizzo promossi dalle linee guida\, a partire dalle esperienze avviate nelle 28 zone-distretto/SDS e con la finalità di definire pratiche coerenti e omogenee sul territorio toscano di accompagnamento dei e delle minorenni nei loro percorsi di sviluppo. \nSono previstri diversi incontri in presenza e online: \n\n25 febbraio 2026 – in presenza presso Salone Brunelleschi (orario da definire)\n24 marzo 2026 – online (dalle 14.00 alle 17.00)\n23 aprile 2026 – online (dalle 14.00 alle 17.00)\n26 maggio 2026 – online (dalle 14.00 alle 17.00)\ndata di chiusura da definire – in presenza\n\n[/vc_column_text][vc_column_text el_class=”blu uppercase”]\nContenuti\n[/vc_column_text][vc_column_text]\n\nincontro: (Febbraio) – Obiettivi e metodologia del percorso\, le fondamenta teoriche e il contesto normativo regionale\, criticità e punti di forza per l’applicabilità delle LINEE DI INDIRIZZO PER L’ACCOGLIENZA NEI SERVIZI RESIDENZIALI PER MINORENNI nel contesto regionale\nincontro: (Marzo) – Obiettivi\, attori e ruoli del sistema di accoglienza: dai diritti dell’infanzia alla loro applicabilità nel contesto regionale\nincontro: (Aprile) – I percorsi dell’accoglienza: fase della decisione\, progetto educativo individualizzato\, progetto quadro\, accompagnamento\, sostegno e verifica\, la dimissione\nincontro: (Maggio) – Gli strumenti operativi condivisi\nincontro: (data da definire) – Revisione linee operative regionali per il recepimento delle Linee di indirizzo nazionali e validazione\n\n[/vc_column_text][vc_column_text el_class=”blu uppercase”]\nPartecipanti\n[/vc_column_text][vc_column_text]Gruppo rappresentativo dei diversi attori che insieme concorrono alla progettazione e realizzazione del progetto nelle 28 zone distretto/sds (assistenti sociali\, educatori\, psicologi\, neuropsichiatri\, specialisti delle dipendenze\, referenti di strutture di accoglienza\, famiglie\, tutori volontari e Care leavers).[/vc_column_text][/vc_column][/vc_row][vc_row type=”in_container” full_screen_row_position=”middle” column_margin=”default” column_direction=”default” column_direction_tablet=”default” column_direction_phone=”default” scene_position=”center” text_color=”dark” text_align=”left” row_border_radius=”none” row_border_radius_applies=”bg” overflow=”visible” class=”programma” overlay_strength=”0.3″ gradient_direction=”left_to_right” shape_divider_position=”bottom” bg_image_animation=”none” gradient_type=”default” shape_type=””][vc_column column_padding=”no-extra-padding” column_padding_tablet=”inherit” column_padding_phone=”inherit” column_padding_position=”all” column_element_direction_desktop=”default” column_element_spacing=”default” desktop_text_alignment=”default” tablet_text_alignment=”default” phone_text_alignment=”default” background_color_opacity=”1″ background_hover_color_opacity=”1″ column_backdrop_filter=”none” column_shadow=”none” column_border_radius=”none” column_link_target=”_self” column_position=”default” gradient_direction=”left_to_right” overlay_strength=”0.3″ width=”1/1″ tablet_width_inherit=”default” animation_type=”default” bg_image_animation=”none” border_type=”simple” column_border_width=”none” column_border_style=”solid”][vc_column_text el_class=”blu uppercase”]\nPromotori\n[/vc_column_text][vc_column_text]			\n				Istituto degli Innocenti                \n			\n						\n				Ministero del lavoro e delle politiche sociali                \n			\n			[/vc_column_text][/vc_column][/vc_row][vc_row type=”in_container” full_screen_row_position=”middle” column_margin=”default” equal_height=”yes” column_direction=”default” column_direction_tablet=”default” column_direction_phone=”default” scene_position=”center” text_color=”dark” text_align=”left” row_border_radius=”none” row_border_radius_applies=”bg” overflow=”visible” overlay_strength=”0.3″ gradient_direction=”left_to_right” shape_divider_position=”bottom” bg_image_animation=”none” gradient_type=”default” shape_type=””][vc_column top_padding_desktop=”2%” constrain_group_100=”yes” bottom_padding_desktop=”2%” left_padding_desktop=”5%” constrain_group_101=”yes” right_padding_desktop=”5%” column_element_direction_desktop=”default” column_element_spacing=”default” desktop_text_alignment=”default” tablet_text_alignment=”default” phone_text_alignment=”default” background_color=”rgba(75\,126\,188\,0.15)” background_color_opacity=”1″ background_hover_color_opacity=”1″ column_backdrop_filter=”none” column_shadow=”none” column_border_radius=”none” column_link_target=”_self” column_position=”default” gradient_direction=”left_to_right” overlay_strength=”0.3″ width=”1/2″ tablet_width_inherit=”default” animation_type=”default” bg_image_animation=”none” border_type=”simple” column_border_width=”none” column_border_style=”solid” column_padding_type=”advanced” gradient_type=”default”][vc_column_text css=”.vc_custom_1682584326234{margin-top: 15px !important;}” el_class=”blu”]\nACCEDI\n[/vc_column_text][vc_column_text css=”.vc_custom_1737627535411{margin-top: 15px !important;}”]NOTA BENE: In genere le attività (corsi\, seminari e convegni\, gruppi di lavoro) sono ad accesso riservato ed attive per un periodo di tempo limitato. Quindi puoi accedere solo se hai ricevuto le credenziali per la specifica attività\, oppure se l’attività è non riservata e non scaduta. \nPer avere informazioni sulle singole attività scrivi a:  formazione@istitutodeglinnocenti.it[/vc_column_text][nectar_btn size=”jumbo” open_new_tab=”true” button_style=”regular” button_color_2=”Accent-Color” solid_text_color_override=”#ffffff” icon_family=”none” url=”https://fad.innocentiacademy.it/” text=”ACCEDI”][/vc_column][vc_column top_padding_desktop=”2%” constrain_group_100=”yes” bottom_padding_desktop=”2%” left_padding_desktop=”5%” constrain_group_101=”yes” right_padding_desktop=”5%” column_element_direction_desktop=”default” column_element_spacing=”default” desktop_text_alignment=”default” tablet_text_alignment=”default” phone_text_alignment=”default” background_color=”rgba(75\,126\,188\,0.15)” background_color_opacity=”1″ background_hover_color_opacity=”1″ column_backdrop_filter=”none” column_shadow=”none” column_border_radius=”none” column_link_target=”_self” column_position=”default” gradient_direction=”left_to_right” overlay_strength=”0.3″ width=”1/2″ tablet_width_inherit=”default” animation_type=”default” bg_image_animation=”none” border_type=”simple” column_border_width=”none” column_border_style=”solid” column_padding_type=”advanced” gradient_type=”default”][vc_column_text css=”.vc_custom_1682584340947{margin-top: 15px !important;}” el_class=”blu”]\nISCRIVITI\n[/vc_column_text][vc_column_text css=”.vc_custom_1737627632545{margin-top: 15px !important;}”]Puoi iscriverti a questa attività solo se non riservata e non scaduta. In questo caso\, se non sei già registrato ad Innocenti Academy\, clicca sul pulsante crea un account. \nSubito dopo\, solo se l’attività è non riservata e non scaduta\, potrai iscriverti e richiedere le credenziali per l’accesso.[/vc_column_text][nectar_btn size=”jumbo” open_new_tab=”true” button_style=”regular” button_color_2=”Accent-Color” solid_text_color_override=”#ffffff” icon_family=”none” url=”https://fad.innocentiacademy.it/login/signup.php” text=”CREA UN ACCOUNT” margin_top=”30″][/vc_column][/vc_row]
URL:https://www.innocentiacademy.it/attivita/costruire-il-modello-operativo-regionale-per-la-realizzazione-dei-percorsi-dellaccoglienza-residenziale/
LOCATION:Salone Brunelleschi\, Istituto degli Innocenti – Firenze\, Piazza della SS. Annunziata\, 12\, Firenze\, 50122
CATEGORIES:Corsi di Formazione
ATTACH;FMTTYPE=image/png:https://www.innocentiacademy.it/wp-content/uploads/2026/01/285.png
ORGANIZER;CN="Istituto degli Innocenti":MAILTO:info@istitutodeglinnocenti.it
END:VEVENT
END:VCALENDAR