BEGIN:VCALENDAR
VERSION:2.0
PRODID:-//Innocenti Academy - ECPv6.14.0//NONSGML v1.0//EN
CALSCALE:GREGORIAN
METHOD:PUBLISH
X-WR-CALNAME:Innocenti Academy
X-ORIGINAL-URL:https://www.innocentiacademy.it
X-WR-CALDESC:Eventi per Innocenti Academy
REFRESH-INTERVAL;VALUE=DURATION:PT1H
X-Robots-Tag:noindex
X-PUBLISHED-TTL:PT1H
BEGIN:VTIMEZONE
TZID:Europe/Rome
BEGIN:DAYLIGHT
TZOFFSETFROM:+0100
TZOFFSETTO:+0200
TZNAME:CEST
DTSTART:20260329T010000
END:DAYLIGHT
BEGIN:STANDARD
TZOFFSETFROM:+0200
TZOFFSETTO:+0100
TZNAME:CET
DTSTART:20261025T010000
END:STANDARD
END:VTIMEZONE
BEGIN:VEVENT
DTSTART;TZID=Europe/Rome:20260128T103000
DTEND;TZID=Europe/Rome:20260617T130000
DTSTAMP:20260424T134706
CREATED:20260115T153910Z
LAST-MODIFIED:20260115T153910Z
UID:10000272-1769596200-1781701200@www.innocentiacademy.it
SUMMARY:Percorso di condivisione e formazione Facilitatori RSC
DESCRIPTION:[vc_row type=”in_container” full_screen_row_position=”middle” column_margin=”default” column_direction=”default” column_direction_tablet=”default” column_direction_phone=”default” scene_position=”center” text_color=”dark” text_align=”left” row_border_radius=”none” row_border_radius_applies=”bg” overflow=”visible” overlay_strength=”0.3″ gradient_direction=”left_to_right” shape_divider_position=”bottom” bg_image_animation=”none”][vc_column column_padding=”no-extra-padding” column_padding_tablet=”inherit” column_padding_phone=”inherit” column_padding_position=”all” column_element_direction_desktop=”default” column_element_spacing=”default” desktop_text_alignment=”default” tablet_text_alignment=”default” phone_text_alignment=”default” background_color_opacity=”1″ background_hover_color_opacity=”1″ column_backdrop_filter=”none” column_shadow=”none” column_border_radius=”none” column_link_target=”_self” column_position=”default” gradient_direction=”left_to_right” overlay_strength=”0.3″ width=”1/1″ tablet_width_inherit=”default” animation_type=”default” bg_image_animation=”none” border_type=”simple” column_border_width=”none” column_border_style=”solid”][vc_column_text]\nCorso di formazione per la condivisione e formazione dei Facilitatori RSC.\n[/vc_column_text][vc_column_text]\nProgetto Nazionale per l’inclusione e l’integrazione delle bambine\, dei bambini e degli adolescenti RSC\n[/vc_column_text][/vc_column][/vc_row][vc_row type=”in_container” full_screen_row_position=”middle” column_margin=”default” column_direction=”default” column_direction_tablet=”default” column_direction_phone=”default” scene_position=”center” text_color=”dark” text_align=”left” row_border_radius=”none” row_border_radius_applies=”bg” overflow=”visible” overlay_strength=”0.3″ gradient_direction=”left_to_right” shape_divider_position=”bottom” bg_image_animation=”none”][vc_column column_padding=”no-extra-padding” column_padding_tablet=”inherit” column_padding_phone=”inherit” column_padding_position=”all” column_element_direction_desktop=”default” column_element_spacing=”default” desktop_text_alignment=”default” tablet_text_alignment=”default” phone_text_alignment=”default” background_color_opacity=”1″ background_hover_color_opacity=”1″ column_backdrop_filter=”none” column_shadow=”none” column_border_radius=”none” column_link_target=”_self” column_position=”default” gradient_direction=”left_to_right” overlay_strength=”0.3″ width=”1/1″ tablet_width_inherit=”default” animation_type=”default” bg_image_animation=”none” border_type=”simple” column_border_width=”none” column_border_style=”solid”][vc_column_text]Il percorso formativo prevede 6 incontri (con i medesimi partecipanti): \n\nMercoledì 28 gennaio – 10.30-13.00\nMercoledì 25 febbraio – 10.30-13.00\nMercoledì 25 marzo – 10.30-13.00\nMercoledì 29 aprile – 10.30-13.00\nMercoledì 27 maggio – 10.30-13.00\nMercoledì 17 giugno – 10.30-13.00\n\nFinalità: Incontro e confronto con i facilitatori locali delle comunità coinvolte nel progetto RSC. \nContenuti principali: \n\nAntiziganismo: Strategie per contrastare pregiudizi e discriminazioni verso la comunità romanì\, con attenzione alle dinamiche locali.\nCoinvolgimento delle famiglie: Modi efficaci per favorire la partecipazione attiva e promuovere fiducia nella comunità.\nProgettazione condivisa: Coinvolgimento di tutti gli interessati nella definizione degli interventi\, per garantire trasparenza e inclusività.\n\nPartecipanti: Facilitatori locali delle comunità.[/vc_column_text][/vc_column][/vc_row][vc_row type=”in_container” full_screen_row_position=”middle” column_margin=”default” column_direction=”default” column_direction_tablet=”default” column_direction_phone=”default” scene_position=”center” text_color=”dark” text_align=”left” row_border_radius=”none” row_border_radius_applies=”bg” overflow=”visible” class=”programma” overlay_strength=”0.3″ gradient_direction=”left_to_right” shape_divider_position=”bottom” bg_image_animation=”none” gradient_type=”default” shape_type=””][vc_column column_padding=”no-extra-padding” column_padding_tablet=”inherit” column_padding_phone=”inherit” column_padding_position=”all” column_element_direction_desktop=”default” column_element_spacing=”default” desktop_text_alignment=”default” tablet_text_alignment=”default” phone_text_alignment=”default” background_color_opacity=”1″ background_hover_color_opacity=”1″ column_backdrop_filter=”none” column_shadow=”none” column_border_radius=”none” column_link_target=”_self” column_position=”default” gradient_direction=”left_to_right” overlay_strength=”0.3″ width=”1/1″ tablet_width_inherit=”default” animation_type=”default” bg_image_animation=”none” border_type=”simple” column_border_width=”none” column_border_style=”solid”][vc_column_text el_class=”blu uppercase”]\nPromotori\n[/vc_column_text][vc_column_text]			\n				Istituto degli Innocenti                \n			\n						\n				Ministero del lavoro e delle politiche sociali                \n			\n			[/vc_column_text][/vc_column][/vc_row][vc_row type=”in_container” full_screen_row_position=”middle” column_margin=”default” equal_height=”yes” column_direction=”default” column_direction_tablet=”default” column_direction_phone=”default” scene_position=”center” top_padding=”30px” text_color=”dark” text_align=”left” row_border_radius=”none” row_border_radius_applies=”bg” overflow=”visible” overlay_strength=”0.3″ gradient_direction=”left_to_right” shape_divider_position=”bottom” bg_image_animation=”none” gradient_type=”default” shape_type=””][vc_column top_padding_desktop=”2%” constrain_group_100=”yes” bottom_padding_desktop=”2%” left_padding_desktop=”5%” constrain_group_101=”yes” right_padding_desktop=”5%” column_element_direction_desktop=”default” column_element_spacing=”default” desktop_text_alignment=”default” tablet_text_alignment=”default” phone_text_alignment=”default” background_color=”rgba(75\,126\,188\,0.15)” background_color_opacity=”1″ background_hover_color_opacity=”1″ column_backdrop_filter=”none” column_shadow=”none” column_border_radius=”none” column_link_target=”_self” column_position=”default” gradient_direction=”left_to_right” overlay_strength=”0.3″ width=”1/2″ tablet_width_inherit=”default” animation_type=”default” bg_image_animation=”none” border_type=”simple” column_border_width=”none” column_border_style=”solid” column_padding_type=”advanced” gradient_type=”default”][vc_column_text css=”.vc_custom_1682584326234{margin-top: 15px !important;}” el_class=”blu”]\nACCEDI\n[/vc_column_text][vc_column_text css=”.vc_custom_1768490541730{margin-top: 15px !important;}”]NOTA BENE: In genere le attività (corsi\, seminari e convegni\, gruppi di lavoro) sono ad accesso riservato ed attive per un periodo di tempo limitato. Quindi puoi accedere solo se hai ricevuto le credenziali per la specifica attività\, oppure se l’attività è non riservata e non scaduta. \nPer avere informazioni sulle singole attività scrivi a:  formazione@istitutodeglinnocenti.it[/vc_column_text][nectar_btn size=”jumbo” open_new_tab=”true” button_style=”regular” button_color_2=”Accent-Color” solid_text_color_override=”#ffffff” icon_family=”none” url=”https://fad.innocentiacademy.it/” text=”ACCEDI”][/vc_column][vc_column top_padding_desktop=”2%” constrain_group_100=”yes” bottom_padding_desktop=”2%” left_padding_desktop=”5%” constrain_group_101=”yes” right_padding_desktop=”5%” column_element_direction_desktop=”default” column_element_spacing=”default” desktop_text_alignment=”default” tablet_text_alignment=”default” phone_text_alignment=”default” background_color=”rgba(75\,126\,188\,0.15)” background_color_opacity=”1″ background_hover_color_opacity=”1″ column_backdrop_filter=”none” column_shadow=”none” column_border_radius=”none” column_link_target=”_self” column_position=”default” gradient_direction=”left_to_right” overlay_strength=”0.3″ width=”1/2″ tablet_width_inherit=”default” animation_type=”default” bg_image_animation=”none” border_type=”simple” column_border_width=”none” column_border_style=”solid” column_padding_type=”advanced” gradient_type=”default”][vc_column_text css=”.vc_custom_1682584340947{margin-top: 15px !important;}” el_class=”blu”]\nISCRIVITI\n[/vc_column_text][vc_column_text css=”.vc_custom_1768490589836{margin-top: 15px !important;}”]Puoi iscriverti a questa attività solo se non riservata e non scaduta. In questo caso\, se non sei già registrato ad Innocenti Academy\, clicca sul pulsante crea un account. \nSubito dopo\, solo se l’attività è non riservata e non scaduta\, potrai iscriverti e richiedere le credenziali per l’accesso.[/vc_column_text][nectar_btn size=”jumbo” open_new_tab=”true” button_style=”regular” button_color_2=”Accent-Color” solid_text_color_override=”#ffffff” icon_family=”none” url=”https://fad.innocentiacademy.it/login/signup.php” text=”CREA UN ACCOUNT”][/vc_column][/vc_row]
URL:https://www.innocentiacademy.it/attivita/percorso-di-condivisione-e-formazione-facilitatori-rsc/
CATEGORIES:Corsi di Formazione
ATTACH;FMTTYPE=image/jpeg:https://www.innocentiacademy.it/wp-content/uploads/2023/11/Linclusione-dei-bambini-rom-sinti-e-caminanti.jpg
ORGANIZER;CN="Istituto degli Innocenti":MAILTO:info@istitutodeglinnocenti.it
END:VEVENT
BEGIN:VEVENT
DTSTART;TZID=Europe/Rome:20260202T170000
DTEND;TZID=Europe/Rome:20260330T190000
DTSTAMP:20260424T134706
CREATED:20260115T101021Z
LAST-MODIFIED:20260226T092802Z
UID:10000270-1770051600-1774897200@www.innocentiacademy.it
SUMMARY:Focus Scuola inclusiva
DESCRIPTION:[vc_row type=”in_container” full_screen_row_position=”middle” column_margin=”default” column_direction=”default” column_direction_tablet=”default” column_direction_phone=”default” scene_position=”center” text_color=”dark” text_align=”left” row_border_radius=”none” row_border_radius_applies=”bg” overflow=”visible” overlay_strength=”0.3″ gradient_direction=”left_to_right” shape_divider_position=”bottom” bg_image_animation=”none”][vc_column column_padding=”no-extra-padding” column_padding_tablet=”inherit” column_padding_phone=”inherit” column_padding_position=”all” column_element_direction_desktop=”default” column_element_spacing=”default” desktop_text_alignment=”default” tablet_text_alignment=”default” phone_text_alignment=”default” background_color_opacity=”1″ background_hover_color_opacity=”1″ column_backdrop_filter=”none” column_shadow=”none” column_border_radius=”none” column_link_target=”_self” column_position=”default” gradient_direction=”left_to_right” overlay_strength=”0.3″ width=”1/1″ tablet_width_inherit=”default” animation_type=”default” bg_image_animation=”none” border_type=”simple” column_border_width=”none” column_border_style=”solid”][vc_column_text]\nPercorso formativo online Focus Scuola inclusiva per Docenti del progetto RSC\nProgetto Nazionale per l’inclusione e l’integrazione delle bambine\, dei bambini e degli adolescenti RSC\n[/vc_column_text][vc_column_text]Obiettivo formativo: Promuovere e condividere percorsi inclusivi nelle classi con docenti referenti del progetto RSC.[/vc_column_text][vc_column_text]Contenuti: Metodologie e condivisione esperienze\, didattica inclusiva\, didattica cooperativa\, superamento pregiudizi e contrasto all’antizigatismo cultura Rom.[/vc_column_text][/vc_column][/vc_row][vc_row type=”in_container” full_screen_row_position=”middle” column_margin=”default” column_direction=”default” column_direction_tablet=”default” column_direction_phone=”default” scene_position=”center” text_color=”dark” text_align=”left” row_border_radius=”none” row_border_radius_applies=”bg” overflow=”visible” overlay_strength=”0.3″ gradient_direction=”left_to_right” shape_divider_position=”bottom” bg_image_animation=”none”][vc_column column_padding=”no-extra-padding” column_padding_tablet=”inherit” column_padding_phone=”inherit” column_padding_position=”all” column_element_direction_desktop=”default” column_element_spacing=”default” desktop_text_alignment=”default” tablet_text_alignment=”default” phone_text_alignment=”default” background_color_opacity=”1″ background_hover_color_opacity=”1″ column_backdrop_filter=”none” column_shadow=”none” column_border_radius=”none” column_link_target=”_self” column_position=”default” gradient_direction=”left_to_right” overlay_strength=”0.3″ width=”1/1″ tablet_width_inherit=”default” animation_type=”default” bg_image_animation=”none” border_type=”simple” column_border_width=”none” column_border_style=”solid”][vc_column_text]Il percorso formativo prevede tre incontri con i medesimi partecipanti: \n\nLunedì 2 febbraio 2026 dalle ore 17.00 alle 19.00\nLunedì 9 febbraio 2026 dalle ore 17.00 alle 19.00\nLunedì 23 febbraio 2026 dalle ore 17.00 alle 19.00\n\nSi aggiungono altri tre incontri già confermati (con partecipanti diversi): \n\nLunedì 2 marzo 2026 dalle ore 17.00 alle 19.00 – 5 gruppi di lavoro\nLunedì 16 marzo 2026 dalle ore 17.00 alle 19.00 – 5 gruppi di lavoro\nLunedì 30 marzo 2026 dalle ore 17.00 alle 19.00 – 5 gruppi di lavoro\n\n[/vc_column_text][/vc_column][/vc_row][vc_row type=”in_container” full_screen_row_position=”middle” column_margin=”default” column_direction=”default” column_direction_tablet=”default” column_direction_phone=”default” scene_position=”center” text_color=”dark” text_align=”left” row_border_radius=”none” row_border_radius_applies=”bg” overflow=”visible” class=”programma” overlay_strength=”0.3″ gradient_direction=”left_to_right” shape_divider_position=”bottom” bg_image_animation=”none” gradient_type=”default” shape_type=””][vc_column column_padding=”no-extra-padding” column_padding_tablet=”inherit” column_padding_phone=”inherit” column_padding_position=”all” column_element_direction_desktop=”default” column_element_spacing=”default” desktop_text_alignment=”default” tablet_text_alignment=”default” phone_text_alignment=”default” background_color_opacity=”1″ background_hover_color_opacity=”1″ column_backdrop_filter=”none” column_shadow=”none” column_border_radius=”none” column_link_target=”_self” column_position=”default” gradient_direction=”left_to_right” overlay_strength=”0.3″ width=”1/1″ tablet_width_inherit=”default” animation_type=”default” bg_image_animation=”none” border_type=”simple” column_border_width=”none” column_border_style=”solid”][vc_column_text el_class=”blu uppercase”]\nPromotori\n[/vc_column_text][vc_column_text]			\n				Istituto degli Innocenti                \n			\n						\n				Ministero del lavoro e delle politiche sociali                \n			\n			[/vc_column_text][/vc_column][/vc_row][vc_row type=”in_container” full_screen_row_position=”middle” column_margin=”default” equal_height=”yes” column_direction=”default” column_direction_tablet=”default” column_direction_phone=”default” scene_position=”center” top_padding=”30px” text_color=”dark” text_align=”left” row_border_radius=”none” row_border_radius_applies=”bg” overflow=”visible” overlay_strength=”0.3″ gradient_direction=”left_to_right” shape_divider_position=”bottom” bg_image_animation=”none” gradient_type=”default” shape_type=””][vc_column top_padding_desktop=”2%” constrain_group_100=”yes” bottom_padding_desktop=”2%” left_padding_desktop=”5%” constrain_group_101=”yes” right_padding_desktop=”5%” column_element_direction_desktop=”default” column_element_spacing=”default” desktop_text_alignment=”default” tablet_text_alignment=”default” phone_text_alignment=”default” background_color=”rgba(75\,126\,188\,0.15)” background_color_opacity=”1″ background_hover_color_opacity=”1″ column_backdrop_filter=”none” column_shadow=”none” column_border_radius=”none” column_link_target=”_self” column_position=”default” gradient_direction=”left_to_right” overlay_strength=”0.3″ width=”1/2″ tablet_width_inherit=”default” animation_type=”default” bg_image_animation=”none” border_type=”simple” column_border_width=”none” column_border_style=”solid” column_padding_type=”advanced” gradient_type=”default”][vc_column_text css=”.vc_custom_1682584326234{margin-top: 15px !important;}” el_class=”blu”]\nACCEDI\n[/vc_column_text][vc_column_text css=”.vc_custom_1695718779776{margin-top: 15px !important;}”]NOTA BENE: In genere le attività (corsi\, seminari e convegni\, gruppi di lavoro) sono ad accesso riservato. Quindi puoi accedere solo se hai ricevuto le credenziali per la specifica attività\, oppure se l’attività è non riservata. \nPer avere informazioni sulle singole attività scrivi a:  formazione@istitutodeglinnocenti.it[/vc_column_text][nectar_btn size=”jumbo” open_new_tab=”true” button_style=”regular” button_color_2=”Accent-Color” solid_text_color_override=”#ffffff” icon_family=”none” url=”https://fad.innocentiacademy.it/login” text=”ACCEDI”][/vc_column][vc_column top_padding_desktop=”2%” constrain_group_100=”yes” bottom_padding_desktop=”2%” left_padding_desktop=”5%” constrain_group_101=”yes” right_padding_desktop=”5%” column_element_direction_desktop=”default” column_element_spacing=”default” desktop_text_alignment=”default” tablet_text_alignment=”default” phone_text_alignment=”default” background_color=”rgba(75\,126\,188\,0.15)” background_color_opacity=”1″ background_hover_color_opacity=”1″ column_backdrop_filter=”none” column_shadow=”none” column_border_radius=”none” column_link_target=”_self” column_position=”default” gradient_direction=”left_to_right” overlay_strength=”0.3″ width=”1/2″ tablet_width_inherit=”default” animation_type=”default” bg_image_animation=”none” border_type=”simple” column_border_width=”none” column_border_style=”solid” column_padding_type=”advanced” gradient_type=”default”][vc_column_text css=”.vc_custom_1682584340947{margin-top: 15px !important;}” el_class=”blu”]\nISCRIVITI\n[/vc_column_text][vc_column_text css=”.vc_custom_1695718816900{margin-top: 15px !important;}”]Puoi iscriverti a questa attività solo se non riservata. In questo caso\, se non sei già registrato ad Innocenti Academy\, clicca sul pulsante crea un account. \nSubito dopo\, solo se l’attività è non riservata\, potrai iscriverti e richiedere le credenziali per l’accesso.[/vc_column_text][nectar_btn size=”jumbo” open_new_tab=”true” button_style=”regular” button_color_2=”Accent-Color” solid_text_color_override=”#ffffff” icon_family=”none” url=”https://fad.innocentiacademy.it/login/signup.php” text=”CREA UN ACCOUNT”][/vc_column][/vc_row]
URL:https://www.innocentiacademy.it/attivita/percorso-formativo-online-focus-scuola-inclusiva/
CATEGORIES:Corsi di Formazione
ATTACH;FMTTYPE=image/jpeg:https://www.innocentiacademy.it/wp-content/uploads/2023/11/Linclusione-dei-bambini-rom-sinti-e-caminanti.jpg
ORGANIZER;CN="Istituto degli Innocenti":MAILTO:info@istitutodeglinnocenti.it
END:VEVENT
END:VCALENDAR