BEGIN:VCALENDAR
VERSION:2.0
PRODID:-//Innocenti Academy - ECPv6.14.0//NONSGML v1.0//EN
CALSCALE:GREGORIAN
METHOD:PUBLISH
X-WR-CALNAME:Innocenti Academy
X-ORIGINAL-URL:https://www.innocentiacademy.it
X-WR-CALDESC:Eventi per Innocenti Academy
REFRESH-INTERVAL;VALUE=DURATION:PT1H
X-Robots-Tag:noindex
X-PUBLISHED-TTL:PT1H
BEGIN:VTIMEZONE
TZID:Europe/Rome
BEGIN:DAYLIGHT
TZOFFSETFROM:+0100
TZOFFSETTO:+0200
TZNAME:CEST
DTSTART:20250330T010000
END:DAYLIGHT
BEGIN:STANDARD
TZOFFSETFROM:+0200
TZOFFSETTO:+0100
TZNAME:CET
DTSTART:20251026T010000
END:STANDARD
END:VTIMEZONE
BEGIN:VEVENT
DTSTART;TZID=Europe/Rome:20250626T093000
DTEND;TZID=Europe/Rome:20250626T120000
DTSTAMP:20260425T135339
CREATED:20250611T093725Z
LAST-MODIFIED:20250708T152033Z
UID:10000242-1750930200-1750939200@www.innocentiacademy.it
SUMMARY:Welfare e salute in Toscana 2025
DESCRIPTION:evidenzae[vc_row type=”in_container” full_screen_row_position=”middle” column_margin=”default” column_direction=”default” column_direction_tablet=”default” column_direction_phone=”default” scene_position=”center” text_color=”dark” text_align=”left” row_border_radius=”none” row_border_radius_applies=”bg” overflow=”visible” overlay_strength=”0.3″ gradient_direction=”left_to_right” shape_divider_position=”bottom” bg_image_animation=”none”][vc_column column_padding=”no-extra-padding” column_padding_tablet=”inherit” column_padding_phone=”inherit” column_padding_position=”all” column_element_direction_desktop=”default” column_element_spacing=”default” desktop_text_alignment=”default” tablet_text_alignment=”default” phone_text_alignment=”default” background_color_opacity=”1″ background_hover_color_opacity=”1″ column_backdrop_filter=”none” column_shadow=”none” column_border_radius=”none” column_link_target=”_self” column_position=”default” gradient_direction=”left_to_right” overlay_strength=”0.3″ width=”1/1″ tablet_width_inherit=”default” animation_type=”default” bg_image_animation=”none” border_type=”simple” column_border_width=”none” column_border_style=”solid”][vc_column_text]Presentazione del Rapporto Welfare e salute 2025 sui dati di benessere e salute della popolazione\, riguardanti il periodo della legislatura corrente in via di conclusione.[/vc_column_text][vc_column_text el_class=”blu uppercase”]\nObiettivo formativo\n[/vc_column_text][vc_column_text]Il rapporto “Welfare e Salute in Toscana”\, che nel 2025 giunge alla sua settima edizione\, rappresenta il principale strumento conoscitivo integrato a disposizione di Regione Toscana nell’ambito della salute\, intesa tanto nella componente sanitaria che in quella sociale e socio-sanitaria.\nIl lavoro\, infatti\, integra relazione sanitaria\, profilo sociale e valutazione del servizio sanitario regionale\, fotografando la regione Toscana nel contesto nazionale. \nIn particolare\, questa edizione è dedicata a ripercorrere quanto avvenuto in Toscana negli ultimi cinque anni\, con specifica attenzione alla capacità di risposta agli effetti della pandemia da Covid-19. Sarà proposta una lettura integrata degli indicatori demografici\, sociali e sanitari.[/vc_column_text][vc_column_text el_class=”blu uppercase”]\nRelatori\n[/vc_column_text][vc_column_text]Simone Bezzini – assessore Diritto alla salute e sanità\, Regione Toscana\nRoberta Casini – delegata Anci Toscana Sanità\, Sindaca Comune di Lucignano\nAnna Maria Celesti – delegata Anci Toscana Politiche di welfare\, Vicesindaca Comune di Pistoia\nFederico Gelli – direttore Sanità\, welfare e coesione sociale\, Regione Toscana – commissario Agenzia regionale di sanità della Toscana\nSimone Gheri – direttore Anci Toscana\nEugenio Giani – presidente Regione Toscana\nMaria Grazia Giuffrida – presidente dell’Istituto degli Innocenti di Firenze\nMarco La Mastra – settore Welfare e Innovazione sociale\, Regione Toscana\nMonica Marini – responsabile settore Assistenza sanitaria territoriale\, coordinamento dei processi di programmazione – Regione Toscana\nFrancesco Profili – funzionario di ricerca – Incarico E.Q. Epidemiologia per la sanità pubblica ed i servizi socio-sanitari – Osservatorio di Epidemiologia\, Agenzia regionale di sanità della Toscana\nAlessandro Salvi – responsabile settore Welfare e Innovazione sociale\, Regione Toscana\nSerena Spinelli – assessora Politiche sociali\, edilizia residenziale pubblica e cooperazione internazionale\, Regione Toscana\nBarbara Trambusti -responsabile settore Integrazione socio-sanitaria\, Regione Toscana\nMilena Vainieri – direttrice laboratorio Management e Sanità Scuola Superiore Sant’Anna\nFabio Voller – coordinatore Osservatorio di Epidemiologia\, Agenzia regionale di sanità della ToscanaProvider[/vc_column_text][vc_column_text el_class=”blu uppercase”]\nDestinatari della formazione\n[/vc_column_text][vc_column_text]Il convegno si rivolge a tutti i professionisti dei settori welfare\, salute e cittadinanza ed è in corso di accreditamento presso l’Ordine degli Assistenti Sociali della Toscana. \nI professionisti sanitari\, partecipanti al percorso formativo\, possono ottenere 1.4 crediti ECM\, a condizione di partecipare ad almeno il 90% dell’evento e confermare la presenza tramite tessera sanitaria (per gli assistenti sociali). \nLa partecipazione è gratuita. \nPer iscriversi e consultare il programma\, accedere alla pagina-evento sul sito ARS Toscana[/vc_column_text][/vc_column][/vc_row][vc_row type=”in_container” full_screen_row_position=”middle” column_margin=”default” column_direction=”default” column_direction_tablet=”default” column_direction_phone=”default” scene_position=”center” text_color=”dark” text_align=”left” row_border_radius=”none” row_border_radius_applies=”bg” overflow=”visible” class=”programma” overlay_strength=”0.3″ gradient_direction=”left_to_right” shape_divider_position=”bottom” bg_image_animation=”none” gradient_type=”default” shape_type=””][vc_column column_padding=”no-extra-padding” column_padding_tablet=”inherit” column_padding_phone=”inherit” column_padding_position=”all” column_element_direction_desktop=”default” column_element_spacing=”default” desktop_text_alignment=”default” tablet_text_alignment=”default” phone_text_alignment=”default” background_color_opacity=”1″ background_hover_color_opacity=”1″ column_backdrop_filter=”none” column_shadow=”none” column_border_radius=”none” column_link_target=”_self” column_position=”default” gradient_direction=”left_to_right” overlay_strength=”0.3″ width=”1/1″ tablet_width_inherit=”default” animation_type=”default” bg_image_animation=”none” border_type=”simple” column_border_width=”none” column_border_style=”solid”][vc_column_text el_class=”blu uppercase”]\nPromotori\n[/vc_column_text][vc_column_text]			\n				Regione Toscana                \n			\n						\n				Istituto degli Innocenti                \n			\n						\n				ARS Toscana                \n			\n						\n				Centro regionale di documentazione per l’infanzia e l’adolescenza                \n			\n			[/vc_column_text][/vc_column][/vc_row][vc_row type=”in_container” full_screen_row_position=”middle” column_margin=”default” equal_height=”yes” column_direction=”default” column_direction_tablet=”default” column_direction_phone=”default” scene_position=”center” top_padding=”30px” text_color=”dark” text_align=”left” row_border_radius=”none” row_border_radius_applies=”bg” overflow=”visible” overlay_strength=”0.3″ gradient_direction=”left_to_right” shape_divider_position=”bottom” bg_image_animation=”none” gradient_type=”default” shape_type=””][vc_column top_padding_desktop=”2%” constrain_group_100=”yes” bottom_padding_desktop=”2%” left_padding_desktop=”5%” constrain_group_101=”yes” right_padding_desktop=”5%” column_element_direction_desktop=”default” column_element_spacing=”default” desktop_text_alignment=”default” tablet_text_alignment=”default” phone_text_alignment=”default” background_color=”rgba(75\,126\,188\,0.15)” background_color_opacity=”1″ background_hover_color_opacity=”1″ column_backdrop_filter=”none” column_shadow=”none” column_border_radius=”none” column_link_target=”_self” column_position=”default” gradient_direction=”left_to_right” overlay_strength=”0.3″ width=”1/2″ tablet_width_inherit=”default” animation_type=”default” bg_image_animation=”none” border_type=”simple” column_border_width=”none” column_border_style=”solid” column_padding_type=”advanced” gradient_type=”default”][vc_column_text css=”.vc_custom_1682584326234{margin-top: 15px !important;}” el_class=”blu”]\nACCEDI\n[/vc_column_text][vc_column_text css=”.vc_custom_1749634279153{margin-top: 15px !important;}”]NOTA BENE: In genere le attività (corsi\, seminari e convegni\, gruppi di lavoro) sono ad accesso riservato ed attive per un periodo di tempo limitato. Quindi puoi accedere solo se hai ricevuto le credenziali per la specifica attività\, oppure se l’attività è non riservata e non scaduta. \nPer avere informazioni sulle singole attività scrivi a:  formazione@istitutodeglinnocenti.it[/vc_column_text][nectar_btn size=”jumbo” open_new_tab=”true” button_style=”regular” button_color_2=”Accent-Color” solid_text_color_override=”#ffffff” icon_family=”none” url=”https://fad.innocentiacademy.it/login/index.php” text=”ACCEDI”][/vc_column][vc_column top_padding_desktop=”2%” constrain_group_100=”yes” bottom_padding_desktop=”2%” left_padding_desktop=”5%” constrain_group_101=”yes” right_padding_desktop=”5%” column_element_direction_desktop=”default” column_element_spacing=”default” desktop_text_alignment=”default” tablet_text_alignment=”default” phone_text_alignment=”default” background_color=”rgba(75\,126\,188\,0.15)” background_color_opacity=”1″ background_hover_color_opacity=”1″ column_backdrop_filter=”none” column_shadow=”none” column_border_radius=”none” column_link_target=”_self” column_position=”default” gradient_direction=”left_to_right” overlay_strength=”0.3″ width=”1/2″ tablet_width_inherit=”default” animation_type=”default” bg_image_animation=”none” border_type=”simple” column_border_width=”none” column_border_style=”solid” column_padding_type=”advanced” gradient_type=”default”][vc_column_text css=”.vc_custom_1682584340947{margin-top: 15px !important;}” el_class=”blu”]\nISCRIVITI\n[/vc_column_text][vc_column_text css=”.vc_custom_1749634316513{margin-top: 15px !important;}”]Puoi iscriverti a questa attività solo se non riservata e non scaduta. In questo caso\, se non sei già registrato ad Innocenti Academy\, clicca sul pulsante crea un account. \nSubito dopo\, solo se l’attività è non riservata e non scaduta\, potrai iscriverti e richiedere le credenziali per l’accesso.[/vc_column_text][nectar_btn size=”jumbo” open_new_tab=”true” button_style=”regular” button_color_2=”Accent-Color” solid_text_color_override=”#ffffff” icon_family=”none” url=”https://fad.innocentiacademy.it/login/signup.php” text=”CREA UN ACCOUNT”][/vc_column][/vc_row]
URL:https://www.innocentiacademy.it/attivita/welfare-e-salute-in-toscana-2025/
LOCATION:Salone Brunelleschi\, Istituto degli Innocenti – Firenze\, Piazza della SS. Annunziata\, 12\, Firenze\, 50122
CATEGORIES:Seminari e Convegni
ATTACH;FMTTYPE=image/png:https://www.innocentiacademy.it/wp-content/uploads/2025/06/Welfare-e-salute_2-e1749637308486.png
ORGANIZER;CN="Regione Toscana":MAILTO:urp@regione.toscana.it
END:VEVENT
END:VCALENDAR