BEGIN:VCALENDAR
VERSION:2.0
PRODID:-//Innocenti Academy - ECPv6.14.0//NONSGML v1.0//EN
CALSCALE:GREGORIAN
METHOD:PUBLISH
X-ORIGINAL-URL:https://www.innocentiacademy.it
X-WR-CALDESC:Eventi per Innocenti Academy
REFRESH-INTERVAL;VALUE=DURATION:PT1H
X-Robots-Tag:noindex
X-PUBLISHED-TTL:PT1H
BEGIN:VTIMEZONE
TZID:Europe/Rome
BEGIN:DAYLIGHT
TZOFFSETFROM:+0100
TZOFFSETTO:+0200
TZNAME:CEST
DTSTART:20250330T010000
END:DAYLIGHT
BEGIN:STANDARD
TZOFFSETFROM:+0200
TZOFFSETTO:+0100
TZNAME:CET
DTSTART:20251026T010000
END:STANDARD
END:VTIMEZONE
BEGIN:VEVENT
DTSTART;TZID=Europe/Rome:20250311T113000
DTEND;TZID=Europe/Rome:20250529T163000
DTSTAMP:20260426T015824
CREATED:20250303T095238Z
LAST-MODIFIED:20250512T103909Z
UID:10000222-1741692600-1748536200@www.innocentiacademy.it
SUMMARY:Incontrando le zone educative
DESCRIPTION:[vc_row type=”in_container” full_screen_row_position=”middle” column_margin=”default” column_direction=”default” column_direction_tablet=”default” column_direction_phone=”default” scene_position=”center” text_color=”dark” text_align=”left” row_border_radius=”none” row_border_radius_applies=”bg” overflow=”visible” overlay_strength=”0.3″ gradient_direction=”left_to_right” shape_divider_position=”bottom” bg_image_animation=”none”][vc_column column_padding=”no-extra-padding” column_padding_tablet=”inherit” column_padding_phone=”inherit” column_padding_position=”all” column_element_direction_desktop=”default” column_element_spacing=”default” desktop_text_alignment=”default” tablet_text_alignment=”default” phone_text_alignment=”default” background_color_opacity=”1″ background_hover_color_opacity=”1″ column_backdrop_filter=”none” column_shadow=”none” column_border_radius=”none” column_link_target=”_self” column_position=”default” gradient_direction=”left_to_right” overlay_strength=”0.3″ width=”1/1″ tablet_width_inherit=”default” animation_type=”default” bg_image_animation=”none” border_type=”simple” column_border_width=”none” column_border_style=”solid”][vc_column_text]La Regione toscana\, in collaborazione con l’Ufficio Scolastico Regionale per la Toscana e il Centro regionale di documentazione per l’infanzia e l’adolescenza\, promuove un ciclo di sette seminari decentrati per la promozione e lo sviluppo del sistema integrato 0-6: \n\nScandicci (Fiorentina nord-ovest\, Firenze\, Fiorentina sud-est\, Valdarno e Valdisieve\, Empolese)\nAuditorium Centro Rogers\, p.zza della Resistenza\n11 marzo 2025  (11.30-13.30 0-3 / 14.30-16.30 0-6)\nPoggibonsi (Alta Val d’Elsa\, Senese\, Valdichiana Senese\, Amiata Val d’Orcia)\nSala Conferenze Palazzo Accabì via Carducci\, 1\n24 marzo 2025  (11.30-13.30 0-3 / 14.30-16.30 0-6)\nArezzo (Aretina\, Valdichiana Aretina\, Valdarno\, Valtiberina\, Casentino)\nSpazio Università di Siena e Comune di Arezzo “Logge del grano” Piazzetta Logge del grano\, 5\n7 aprile 2025  (11.30-13.30 0-3 / 14.30-16.30 0-6)\nPontedera (Livorno\, Livornese\, Pisana\, Valdarno Inferiore\, Val di Cecina)\nUnione Valdera via Brigate Partigiane\, 4\n15 aprile 2025  (11.30-13.30 0-3 / 14.30-16.30 0-6)\nLucca (Massa\, Apuane\, Lunigiana\, Valle del Serchio\, Piana di Lucca)\nCasermetta San Pietro\, Via dei Bacchettoni\, Mura di Lucca\n6 maggio 2025  (11.30-13.30 0-3 / 14.30-16.30 0-6)\nFollonica (Valdicornia\, Colline Metallifere\, Colline dell’Albegna\, Grossetana\, Amiata Grossetana\, Elba)\nSala fonderia\, 1 via Roma 100\n22 maggio 2025  (10.30-12.30 0-3 / 13.30-15.30 0-6)\nPrato (Pratese\, Pistoiese\, Valdinievole\, Mugello)\nCentro Mario Lodi Via Augusto Righi 77/9\n29 maggio 2025  (11.30-13.30 0-3 / 14.30-16.30 0-6)\n\nPer partecipare\, è necessario iscriversi tramite il seguente link Iscrizione[/vc_column_text][vc_column_text el_class=”blu uppercase”]\nObiettivi\n[/vc_column_text][vc_column_text]Nell’incontro con le Conferenze Zonali per l’educazione e l’istruzione saranno presentati i dati del sistema 0-3 territoriale\, illustrati i risultati del monitoraggio sull’attuazione delle modifiche del Regolamento 41/R/2013\, saranno chiariti alcuni dei nuovi standard introdotti dalla modifica al Regolamento 41/R/2013 e sarà promossa la nuova edizione del monitoraggio. L’incontro avrà anche un momento di confronto e scambio in riferimento ai processi per sostenere e promuovere il sistema integrato 0-6.[/vc_column_text][vc_column_text el_class=”blu uppercase”]\nRelatori\n[/vc_column_text][vc_column_text]\n\nSara Mele\, Regione Toscana\nJessica Magrini\, Regione Toscana\nGiacomo Tizzanini\, Ufficio Scolastico Regionale per la Toscana\nSerena Franchi\, Francesco Nuti; Marco\, Zelano\, Istituto degli Innocenti\nMaria Pia Misiti\, Dirigente Scolastico IC Tavarnelle\nEleonora Marchionni\, Dirigente Scolastico IC Lastra a Signa\nReferenti delle istituzioni scolastiche\n\n[/vc_column_text][vc_column_text el_class=”blu uppercase”]\nContenuti\n[/vc_column_text][vc_column_text]Si tratta di un’opportunità di approfondimento e confronto sui principali aspetti del sistema educativo per l’infanzia. Nel corso degli incontri saranno presentati i dati aggiornati sul sistema 0-3 territoriale\, illustrati i risultati del monitoraggio relativo alle modifiche del Regolamento 41/R/2013 e chiariti alcuni degli standard recentemente introdotti. Sarà inoltre l’occasione per promuovere la nuova edizione del monitoraggio e per un confronto sulle strategie di sviluppo del sistema integrato 0-6. \nLa mattina sarà rivolta all’Organismo di Coordinamento Zonale Infanzia in forma allargata\, includendo anche i referenti dei servizi privati\, i soggetti gestori e i responsabili dei servizi. \nIl pomeriggio vedrà la partecipazione degli stessi interlocutori\, oltre ai dirigenti scolastici o ai loro delegati e ai referenti delle scuole dell’infanzia paritarie. Ogni zona curerà il coinvolgimento del proprio sistema educativo nei termini indicati.[/vc_column_text][/vc_column][/vc_row][vc_row type=”in_container” full_screen_row_position=”middle” column_margin=”default” column_direction=”default” column_direction_tablet=”default” column_direction_phone=”default” scene_position=”center” text_color=”dark” text_align=”left” row_border_radius=”none” row_border_radius_applies=”bg” overflow=”visible” class=”programma” overlay_strength=”0.3″ gradient_direction=”left_to_right” shape_divider_position=”bottom” bg_image_animation=”none” gradient_type=”default” shape_type=””][vc_column column_padding=”no-extra-padding” column_padding_tablet=”inherit” column_padding_phone=”inherit” column_padding_position=”all” column_element_direction_desktop=”default” column_element_spacing=”default” desktop_text_alignment=”default” tablet_text_alignment=”default” phone_text_alignment=”default” background_color_opacity=”1″ background_hover_color_opacity=”1″ column_backdrop_filter=”none” column_shadow=”none” column_border_radius=”none” column_link_target=”_self” column_position=”default” gradient_direction=”left_to_right” overlay_strength=”0.3″ width=”1/1″ tablet_width_inherit=”default” animation_type=”default” bg_image_animation=”none” border_type=”simple” column_border_width=”none” column_border_style=”solid”][vc_column_text el_class=”blu uppercase”]\nPromotori\n[/vc_column_text][vc_column_text]			\n				Istituto degli Innocenti                \n			\n						\n				Centro regionale di documentazione per l’infanzia e l’adolescenza                \n			\n						\n				Regione Toscana                \n			\n			[/vc_column_text][/vc_column][/vc_row][vc_row type=”in_container” full_screen_row_position=”middle” column_margin=”default” equal_height=”yes” column_direction=”default” column_direction_tablet=”default” column_direction_phone=”default” scene_position=”center” text_color=”dark” text_align=”left” row_border_radius=”none” row_border_radius_applies=”bg” overflow=”visible” overlay_strength=”0.3″ gradient_direction=”left_to_right” shape_divider_position=”bottom” bg_image_animation=”none” gradient_type=”default” shape_type=””][vc_column top_padding_desktop=”2%” constrain_group_100=”yes” bottom_padding_desktop=”2%” left_padding_desktop=”5%” constrain_group_101=”yes” right_padding_desktop=”5%” column_element_direction_desktop=”default” column_element_spacing=”default” desktop_text_alignment=”default” tablet_text_alignment=”default” phone_text_alignment=”default” background_color=”rgba(75\,126\,188\,0.15)” background_color_opacity=”1″ background_hover_color_opacity=”1″ column_backdrop_filter=”none” column_shadow=”none” column_border_radius=”none” column_link_target=”_self” column_position=”default” gradient_direction=”left_to_right” overlay_strength=”0.3″ width=”1/2″ tablet_width_inherit=”default” animation_type=”default” bg_image_animation=”none” border_type=”simple” column_border_width=”none” column_border_style=”solid” column_padding_type=”advanced” gradient_type=”default”][vc_column_text css=”.vc_custom_1682584326234{margin-top: 15px !important;}” el_class=”blu”]\nACCEDI\n[/vc_column_text][vc_column_text css=”.vc_custom_1737627535411{margin-top: 15px !important;}”]NOTA BENE: In genere le attività (corsi\, seminari e convegni\, gruppi di lavoro) sono ad accesso riservato ed attive per un periodo di tempo limitato. Quindi puoi accedere solo se hai ricevuto le credenziali per la specifica attività\, oppure se l’attività è non riservata e non scaduta. \nPer avere informazioni sulle singole attività scrivi a:  formazione@istitutodeglinnocenti.it[/vc_column_text][nectar_btn size=”jumbo” open_new_tab=”true” button_style=”regular” button_color_2=”Accent-Color” solid_text_color_override=”#ffffff” icon_family=”none” url=”https://fad.innocentiacademy.it/” text=”ACCEDI”][/vc_column][vc_column top_padding_desktop=”2%” constrain_group_100=”yes” bottom_padding_desktop=”2%” left_padding_desktop=”5%” constrain_group_101=”yes” right_padding_desktop=”5%” column_element_direction_desktop=”default” column_element_spacing=”default” desktop_text_alignment=”default” tablet_text_alignment=”default” phone_text_alignment=”default” background_color=”rgba(75\,126\,188\,0.15)” background_color_opacity=”1″ background_hover_color_opacity=”1″ column_backdrop_filter=”none” column_shadow=”none” column_border_radius=”none” column_link_target=”_self” column_position=”default” gradient_direction=”left_to_right” overlay_strength=”0.3″ width=”1/2″ tablet_width_inherit=”default” animation_type=”default” bg_image_animation=”none” border_type=”simple” column_border_width=”none” column_border_style=”solid” column_padding_type=”advanced” gradient_type=”default”][vc_column_text css=”.vc_custom_1682584340947{margin-top: 15px !important;}” el_class=”blu”]\nISCRIVITI\n[/vc_column_text][vc_column_text css=”.vc_custom_1737627632545{margin-top: 15px !important;}”]Puoi iscriverti a questa attività solo se non riservata e non scaduta. In questo caso\, se non sei già registrato ad Innocenti Academy\, clicca sul pulsante crea un account. \nSubito dopo\, solo se l’attività è non riservata e non scaduta\, potrai iscriverti e richiedere le credenziali per l’accesso.[/vc_column_text][nectar_btn size=”jumbo” open_new_tab=”true” button_style=”regular” button_color_2=”Accent-Color” solid_text_color_override=”#ffffff” icon_family=”none” url=”https://fad.innocentiacademy.it/login/signup.php” text=”CREA UN ACCOUNT” margin_top=”30″][/vc_column][/vc_row]
URL:https://www.innocentiacademy.it/attivita/incontrando-le-zone-educative-sistema-integrato-0-6/
LOCATION:Innocenti Academy\, Italia
CATEGORIES:Seminari e Convegni
ATTACH;FMTTYPE=image/png:https://www.innocentiacademy.it/wp-content/uploads/2025/01/Educazione-zero-sei-2.png
ORGANIZER;CN="Istituto degli Innocenti":MAILTO:info@istitutodeglinnocenti.it
END:VEVENT
END:VCALENDAR