BEGIN:VCALENDAR
VERSION:2.0
PRODID:-//Innocenti Academy - ECPv6.14.0//NONSGML v1.0//EN
CALSCALE:GREGORIAN
METHOD:PUBLISH
X-WR-CALNAME:Innocenti Academy
X-ORIGINAL-URL:https://www.innocentiacademy.it
X-WR-CALDESC:Eventi per Innocenti Academy
REFRESH-INTERVAL;VALUE=DURATION:PT1H
X-Robots-Tag:noindex
X-PUBLISHED-TTL:PT1H
BEGIN:VTIMEZONE
TZID:Europe/Rome
BEGIN:DAYLIGHT
TZOFFSETFROM:+0100
TZOFFSETTO:+0200
TZNAME:CEST
DTSTART:20240331T010000
END:DAYLIGHT
BEGIN:STANDARD
TZOFFSETFROM:+0200
TZOFFSETTO:+0100
TZNAME:CET
DTSTART:20241027T010000
END:STANDARD
BEGIN:DAYLIGHT
TZOFFSETFROM:+0100
TZOFFSETTO:+0200
TZNAME:CEST
DTSTART:20250330T010000
END:DAYLIGHT
BEGIN:STANDARD
TZOFFSETFROM:+0200
TZOFFSETTO:+0100
TZNAME:CET
DTSTART:20251026T010000
END:STANDARD
BEGIN:DAYLIGHT
TZOFFSETFROM:+0100
TZOFFSETTO:+0200
TZNAME:CEST
DTSTART:20260329T010000
END:DAYLIGHT
BEGIN:STANDARD
TZOFFSETFROM:+0200
TZOFFSETTO:+0100
TZNAME:CET
DTSTART:20261025T010000
END:STANDARD
END:VTIMEZONE
BEGIN:VEVENT
DTSTART;TZID=Europe/Rome:20250610T110000
DTEND;TZID=Europe/Rome:20260109T170000
DTSTAMP:20260424T192205
CREATED:20250919T111452Z
LAST-MODIFIED:20251114T162714Z
UID:10000252-1749553200-1767978000@www.innocentiacademy.it
SUMMARY:Adozioni internazionali: costruire una rete formativa e operativa integrata
DESCRIPTION:[vc_row type=”in_container” full_screen_row_position=”middle” column_margin=”default” column_direction=”default” column_direction_tablet=”default” column_direction_phone=”default” scene_position=”center” text_color=”dark” text_align=”left” row_border_radius=”none” row_border_radius_applies=”bg” overflow=”visible” overlay_strength=”0.3″ gradient_direction=”left_to_right” shape_divider_position=”bottom” bg_image_animation=”none”][vc_column column_padding=”no-extra-padding” column_padding_tablet=”inherit” column_padding_phone=”inherit” column_padding_position=”all” column_element_direction_desktop=”default” column_element_spacing=”default” desktop_text_alignment=”default” tablet_text_alignment=”default” phone_text_alignment=”default” background_color_opacity=”1″ background_hover_color_opacity=”1″ column_backdrop_filter=”none” column_shadow=”none” column_border_radius=”none” column_link_target=”_self” column_position=”default” gradient_direction=”left_to_right” overlay_strength=”0.3″ width=”1/1″ tablet_width_inherit=”default” animation_type=”default” bg_image_animation=”none” border_type=”simple” column_border_width=”none” column_border_style=”solid”][vc_column_text]\nPercorso formativo “Adozioni internazionali: costruire una rete formativa e operativa integrata”.\n[/vc_column_text][vc_column_text]Il percorso si sviluppa attraverso tre momenti principali (tavolo di lavoro interprofessionale\, seminario residenziale e convegno nazionale)\, ciascuno pensato per rispondere in modo mirato agli obiettivi specifici. L’impianto metodologico privilegia un approccio partecipativo\, multidisciplinare e orientato alla co-costruzione di strumenti condivisi. \nIl tavolo di lavoro interprofessionale\, articolato in almeno quattro/cinque incontri in presenza o on line della durata di circa 3 ore ciascuno\, rappresenta il nucleo riflessivo e progettuale del percorso. Il tavolo avrà il compito di sviluppare\, a partire dagli obiettivi specifici\, moduli tematici da approfondire nel corso del successivo seminario residenziale.[/vc_column_text][vc_column_text]\nCalendario\n[/vc_column_text][vc_column_text]\n\n10 giugno 2025\n24 giugno 2025\n8 luglio 2025\n22 luglio 2025\n16 settembre\n25 settembre\n9 ottobre\n13 ottobre\n21 e 22 Ottobre – Seminario residenziale\n1 dicembre\nGennaio 2026 (data da definirsi) – Seminario conclusivo\n\n[/vc_column_text][vc_column_text]\nFinalità\n[/vc_column_text][vc_column_text]L’obiettivo generale è quello di favorire la costruzione di modalità condivise nello svolgimento dei percorsi di formazione degli aspiranti all’adozione internazionale\, attraverso il confronto tra operatori\, magistrati ed esperti\, orientato alla individuazione di prassi uniformi a livello nazionale. Obiettivi specifici: \n\nPromuovere una riflessione interdisciplinare sui criteri e le modalità di svolgimento dei percorsi di formazione rivolti agli aspiranti genitori adottivi\, con attenzione anche alle specificità dei candidati (coppie e single) all’adozione internazionale.\nAnalizzare le prassi in uso nei diversi contesti territoriali e nei sistemi esteri.\nCostruire strumenti operativi condivisi\, capaci di orientare l’azione dei servizi e dei tribunali.\nRafforzare la rete di collaborazione tra attori del sistema adozioni.\n\n[/vc_column_text][/vc_column][/vc_row][vc_row type=”in_container” full_screen_row_position=”middle” column_margin=”default” column_direction=”default” column_direction_tablet=”default” column_direction_phone=”default” scene_position=”center” text_color=”dark” text_align=”left” row_border_radius=”none” row_border_radius_applies=”bg” overflow=”visible” class=”programma” overlay_strength=”0.3″ gradient_direction=”left_to_right” shape_divider_position=”bottom” bg_image_animation=”none” gradient_type=”default” shape_type=””][vc_column column_padding=”no-extra-padding” column_padding_tablet=”inherit” column_padding_phone=”inherit” column_padding_position=”all” column_element_direction_desktop=”default” column_element_spacing=”default” desktop_text_alignment=”default” tablet_text_alignment=”default” phone_text_alignment=”default” background_color_opacity=”1″ background_hover_color_opacity=”1″ column_backdrop_filter=”none” column_shadow=”none” column_border_radius=”none” column_link_target=”_self” column_position=”default” gradient_direction=”left_to_right” overlay_strength=”0.3″ width=”1/1″ tablet_width_inherit=”default” animation_type=”default” bg_image_animation=”none” border_type=”simple” column_border_width=”none” column_border_style=”solid”][vc_column_text el_class=”blu uppercase”]\nPromotori\n[/vc_column_text][vc_column_text][/vc_column_text][/vc_column][/vc_row][vc_row type=”in_container” full_screen_row_position=”middle” column_margin=”default” equal_height=”yes” column_direction=”default” column_direction_tablet=”default” column_direction_phone=”default” scene_position=”center” top_padding=”30px” text_color=”dark” text_align=”left” row_border_radius=”none” row_border_radius_applies=”bg” overflow=”visible” overlay_strength=”0.3″ gradient_direction=”left_to_right” shape_divider_position=”bottom” bg_image_animation=”none” gradient_type=”default” shape_type=””][vc_column top_padding_desktop=”2%” constrain_group_100=”yes” bottom_padding_desktop=”2%” left_padding_desktop=”5%” constrain_group_101=”yes” right_padding_desktop=”5%” column_element_direction_desktop=”default” column_element_spacing=”default” desktop_text_alignment=”default” tablet_text_alignment=”default” phone_text_alignment=”default” background_color=”rgba(75\,126\,188\,0.15)” background_color_opacity=”1″ background_hover_color_opacity=”1″ column_backdrop_filter=”none” column_shadow=”none” column_border_radius=”none” column_link_target=”_self” column_position=”default” gradient_direction=”left_to_right” overlay_strength=”0.3″ width=”1/2″ tablet_width_inherit=”default” animation_type=”default” bg_image_animation=”none” border_type=”simple” column_border_width=”none” column_border_style=”solid” column_padding_type=”advanced” gradient_type=”default”][vc_column_text css=”.vc_custom_1682584326234{margin-top: 15px !important;}” el_class=”blu”]\nACCEDI\n[/vc_column_text][vc_column_text css=”.vc_custom_1757429375905{margin-top: 15px !important;}”]NOTA BENE: In genere le attività (corsi\, seminari e convegni\, gruppi di lavoro) sono ad accesso riservato ed attive per un periodo di tempo limitato. Quindi puoi accedere solo se hai ricevuto le credenziali per la specifica attività\, oppure se l’attività è non riservata e non scaduta. \nPer avere informazioni sulle singole attività scrivi a:  formazione@istitutodeglinnocenti.it[/vc_column_text][nectar_btn size=”jumbo” open_new_tab=”true” button_style=”regular” button_color_2=”Accent-Color” solid_text_color_override=”#ffffff” icon_family=”none” url=”https://fad.innocentiacademy.it/login” text=”ACCEDI”][/vc_column][vc_column top_padding_desktop=”2%” constrain_group_100=”yes” bottom_padding_desktop=”2%” left_padding_desktop=”5%” constrain_group_101=”yes” right_padding_desktop=”5%” column_element_direction_desktop=”default” column_element_spacing=”default” desktop_text_alignment=”default” tablet_text_alignment=”default” phone_text_alignment=”default” background_color=”rgba(75\,126\,188\,0.15)” background_color_opacity=”1″ background_hover_color_opacity=”1″ column_backdrop_filter=”none” column_shadow=”none” column_border_radius=”none” column_link_target=”_self” column_position=”default” gradient_direction=”left_to_right” overlay_strength=”0.3″ width=”1/2″ tablet_width_inherit=”default” animation_type=”default” bg_image_animation=”none” border_type=”simple” column_border_width=”none” column_border_style=”solid” column_padding_type=”advanced” gradient_type=”default”][vc_column_text css=”.vc_custom_1682584340947{margin-top: 15px !important;}” el_class=”blu”]\nISCRIVITI\n[/vc_column_text][vc_column_text css=”.vc_custom_1757429413974{margin-top: 15px !important;}”]Puoi iscriverti a questa attività solo se non riservata e non scaduta. In questo caso\, se non sei già registrato ad Innocenti Academy\, clicca sul pulsante crea un account. \nSubito dopo\, solo se l’attività è non riservata e non scaduta\, potrai iscriverti e richiedere le credenziali per l’accesso.[/vc_column_text][nectar_btn size=”jumbo” open_new_tab=”true” button_style=”regular” button_color_2=”Accent-Color” solid_text_color_override=”#ffffff” icon_family=”none” url=”https://fad.innocentiacademy.it/login/signup.php” text=”CREA UN ACCOUNT”][/vc_column][/vc_row]
URL:https://www.innocentiacademy.it/attivita/adozioni-internazionali-costruire-una-rete-formativa-e-operativa-integrata/
CATEGORIES:Seminari e Convegni
ATTACH;FMTTYPE=image/jpeg:https://www.innocentiacademy.it/wp-content/uploads/2025/09/Adozioni_internazionali.jpg
ORGANIZER;CN="Istituto degli Innocenti":MAILTO:info@istitutodeglinnocenti.it
END:VEVENT
BEGIN:VEVENT
DTSTART;TZID=Europe/Rome:20250130T080000
DTEND;TZID=Europe/Rome:20250630T180000
DTSTAMP:20260424T192205
CREATED:20250130T101541Z
LAST-MODIFIED:20250130T101541Z
UID:10000183-1738224000-1751306400@www.innocentiacademy.it
SUMMARY:Scuola e adozione: approfondimenti e strumenti
DESCRIPTION:[vc_row type=”in_container” full_screen_row_position=”middle” column_margin=”default” column_direction=”default” column_direction_tablet=”default” column_direction_phone=”default” scene_position=”center” text_color=”dark” text_align=”left” row_border_radius=”none” row_border_radius_applies=”bg” overflow=”visible” overlay_strength=”0.3″ gradient_direction=”left_to_right” shape_divider_position=”bottom” bg_image_animation=”none”][vc_column column_padding=”no-extra-padding” column_padding_tablet=”inherit” column_padding_phone=”inherit” column_padding_position=”all” column_element_direction_desktop=”default” column_element_spacing=”default” desktop_text_alignment=”default” tablet_text_alignment=”default” phone_text_alignment=”default” background_color_opacity=”1″ background_hover_color_opacity=”1″ column_backdrop_filter=”none” column_shadow=”none” column_border_radius=”none” column_link_target=”_self” column_position=”default” gradient_direction=”left_to_right” overlay_strength=”0.3″ width=”1/1″ tablet_width_inherit=”default” animation_type=”default” bg_image_animation=”none” border_type=”simple” column_border_width=”none” column_border_style=”solid”][vc_column_text]\nScuola e adozione\, percorso formativo a distanza\n[/vc_column_text][/vc_column][/vc_row][vc_row type=”in_container” full_screen_row_position=”middle” column_margin=”default” column_direction=”default” column_direction_tablet=”default” column_direction_phone=”default” scene_position=”center” text_color=”dark” text_align=”left” row_border_radius=”none” row_border_radius_applies=”bg” overflow=”visible” overlay_strength=”0.3″ gradient_direction=”left_to_right” shape_divider_position=”bottom” bg_image_animation=”none”][vc_column column_padding=”no-extra-padding” column_padding_tablet=”inherit” column_padding_phone=”inherit” column_padding_position=”all” column_element_direction_desktop=”default” column_element_spacing=”default” desktop_text_alignment=”default” tablet_text_alignment=”default” phone_text_alignment=”default” background_color_opacity=”1″ background_hover_color_opacity=”1″ column_backdrop_filter=”none” column_shadow=”none” column_border_radius=”none” column_link_target=”_self” column_position=”default” gradient_direction=”left_to_right” overlay_strength=”0.3″ width=”1/1″ tablet_width_inherit=”default” animation_type=”default” bg_image_animation=”none” border_type=”simple” column_border_width=”none” column_border_style=”solid”][vc_column_text]Lo sviluppo dei bambini\, delle bambine e dei ragazzi e delle ragazze è certamente influenzato sia da caratteristiche individuali che ambientali (relazioni familiari e sociali\, ecc.) che sistemiche (leggi\, ecc.). Assumendo tale ecologico punto di vista la scuola è da considerarsi essenziale al benessere psicosociale di ogni bambino e bambina\, ragazzo e ragazza nel nostro Paese\, ancor di più quando i loro percorsi di vita sono costellati da articolate specificità. Nella relazione tra scuola e adozione\, nel caso delle alunne e degli alunni con background adottivo (sia nazionale che internazionale) tali specificità\, uniche per ciascun ragazzo o ragazza\, possono avere a che fare sia con le storie di vita che li hanno condotti a incontrare una famiglia adottiva sia con la percezione che la società stessa ha dell’adozione in generale e\, in particolare\, delle famiglie adottive e delle persone con background adottivo. \nPer consentire una maggiore\, più ampia e continuamente aggiornata conoscenza della tematica e per contribuire alla costruzione di spazi di scambio e di confronto\, il MIM e la CAI hanno dunque elaborato\, con il supporto tecnico-scientifico dell’Istituto degli Innocenti di Firenze\, un percorso formativo a distanza (FAD). \nScopri il programma dettagliato \n[/vc_column_text][/vc_column][/vc_row][vc_row type=”in_container” full_screen_row_position=”middle” column_margin=”default” column_direction=”default” column_direction_tablet=”default” column_direction_phone=”default” scene_position=”center” text_color=”dark” text_align=”left” row_border_radius=”none” row_border_radius_applies=”bg” overflow=”visible” class=”programma” overlay_strength=”0.3″ gradient_direction=”left_to_right” shape_divider_position=”bottom” bg_image_animation=”none” gradient_type=”default” shape_type=””][vc_column column_padding=”no-extra-padding” column_padding_tablet=”inherit” column_padding_phone=”inherit” column_padding_position=”all” column_element_direction_desktop=”default” column_element_spacing=”default” desktop_text_alignment=”default” tablet_text_alignment=”default” phone_text_alignment=”default” background_color_opacity=”1″ background_hover_color_opacity=”1″ column_backdrop_filter=”none” column_shadow=”none” column_border_radius=”none” column_link_target=”_self” column_position=”default” gradient_direction=”left_to_right” overlay_strength=”0.3″ width=”1/1″ tablet_width_inherit=”default” animation_type=”default” bg_image_animation=”none” border_type=”simple” column_border_width=”none” column_border_style=”solid”][vc_column_text el_class=”blu uppercase”]\nPromotori\n[/vc_column_text][vc_column_text][/vc_column_text][/vc_column][/vc_row][vc_row type=”in_container” full_screen_row_position=”middle” column_margin=”default” equal_height=”yes” column_direction=”default” column_direction_tablet=”default” column_direction_phone=”default” scene_position=”center” top_padding=”30px” text_color=”dark” text_align=”left” row_border_radius=”none” row_border_radius_applies=”bg” overflow=”visible” overlay_strength=”0.3″ gradient_direction=”left_to_right” shape_divider_position=”bottom” bg_image_animation=”none” gradient_type=”default” shape_type=””][vc_column top_padding_desktop=”2%” constrain_group_100=”yes” bottom_padding_desktop=”2%” left_padding_desktop=”5%” constrain_group_101=”yes” right_padding_desktop=”5%” column_element_direction_desktop=”default” column_element_spacing=”default” desktop_text_alignment=”default” tablet_text_alignment=”default” phone_text_alignment=”default” background_color=”rgba(75\,126\,188\,0.15)” background_color_opacity=”1″ background_hover_color_opacity=”1″ column_backdrop_filter=”none” column_shadow=”none” column_border_radius=”none” column_link_target=”_self” column_position=”default” gradient_direction=”left_to_right” overlay_strength=”0.3″ width=”1/2″ tablet_width_inherit=”default” animation_type=”default” bg_image_animation=”none” border_type=”simple” column_border_width=”none” column_border_style=”solid” column_padding_type=”advanced” gradient_type=”default”][vc_column_text css=”.vc_custom_1682584326234{margin-top: 15px !important;}” el_class=”blu”]\nACCEDI\n[/vc_column_text][vc_column_text css=”.vc_custom_1695718779776{margin-top: 15px !important;}”]NOTA BENE: In genere le attività (corsi\, seminari e convegni\, gruppi di lavoro) sono ad accesso riservato. Quindi puoi accedere solo se hai ricevuto le credenziali per la specifica attività\, oppure se l’attività è non riservata. \nPer avere informazioni sulle singole attività scrivi a:  formazione@istitutodeglinnocenti.it[/vc_column_text][nectar_btn size=”jumbo” open_new_tab=”true” button_style=”regular” button_color_2=”Accent-Color” solid_text_color_override=”#ffffff” icon_family=”none” url=”https://fad.innocentiacademy.it/course/view.php?id=47″ text=”ACCEDI”][/vc_column][vc_column top_padding_desktop=”2%” constrain_group_100=”yes” bottom_padding_desktop=”2%” left_padding_desktop=”5%” constrain_group_101=”yes” right_padding_desktop=”5%” column_element_direction_desktop=”default” column_element_spacing=”default” desktop_text_alignment=”default” tablet_text_alignment=”default” phone_text_alignment=”default” background_color=”rgba(75\,126\,188\,0.15)” background_color_opacity=”1″ background_hover_color_opacity=”1″ column_backdrop_filter=”none” column_shadow=”none” column_border_radius=”none” column_link_target=”_self” column_position=”default” gradient_direction=”left_to_right” overlay_strength=”0.3″ width=”1/2″ tablet_width_inherit=”default” animation_type=”default” bg_image_animation=”none” border_type=”simple” column_border_width=”none” column_border_style=”solid” column_padding_type=”advanced” gradient_type=”default”][vc_column_text css=”.vc_custom_1682584340947{margin-top: 15px !important;}” el_class=”blu”]\nISCRIVITI\n[/vc_column_text][vc_column_text css=”.vc_custom_1695718816900{margin-top: 15px !important;}”]Puoi iscriverti a questa attività solo se non riservata. In questo caso\, se non sei già registrato ad Innocenti Academy\, clicca sul pulsante crea un account. \nSubito dopo\, solo se l’attività è non riservata\, potrai iscriverti e richiedere le credenziali per l’accesso.[/vc_column_text][nectar_btn size=”jumbo” open_new_tab=”true” button_style=”regular” button_color_2=”Accent-Color” solid_text_color_override=”#ffffff” icon_family=”none” url=”https://fad.innocentiacademy.it/login/signup.php” text=”CREA UN ACCOUNT”][/vc_column][/vc_row]
URL:https://www.innocentiacademy.it/attivita/scuola-e-adozione-approfondimenti-e-strumenti/
LOCATION:Innocenti Academy\, Italia
CATEGORIES:Corsi di Formazione
ATTACH;FMTTYPE=image/jpeg:https://www.innocentiacademy.it/wp-content/uploads/2024/05/Scuola-e-adozione.jpg
ORGANIZER;CN="Istituto degli Innocenti":MAILTO:info@istitutodeglinnocenti.it
END:VEVENT
BEGIN:VEVENT
DTSTART;TZID=Europe/Rome:20240506T080000
DTEND;TZID=Europe/Rome:20241231T180000
DTSTAMP:20260424T192205
CREATED:20240513T162347Z
LAST-MODIFIED:20240618T074905Z
UID:10000096-1714982400-1735668000@www.innocentiacademy.it
SUMMARY:Scuola e adozione: approfondimenti e strumenti
DESCRIPTION:[vc_row type=”in_container” full_screen_row_position=”middle” column_margin=”default” column_direction=”default” column_direction_tablet=”default” column_direction_phone=”default” scene_position=”center” text_color=”dark” text_align=”left” row_border_radius=”none” row_border_radius_applies=”bg” overflow=”visible” overlay_strength=”0.3″ gradient_direction=”left_to_right” shape_divider_position=”bottom” bg_image_animation=”none”][vc_column column_padding=”no-extra-padding” column_padding_tablet=”inherit” column_padding_phone=”inherit” column_padding_position=”all” column_element_direction_desktop=”default” column_element_spacing=”default” desktop_text_alignment=”default” tablet_text_alignment=”default” phone_text_alignment=”default” background_color_opacity=”1″ background_hover_color_opacity=”1″ column_backdrop_filter=”none” column_shadow=”none” column_border_radius=”none” column_link_target=”_self” column_position=”default” gradient_direction=”left_to_right” overlay_strength=”0.3″ width=”1/1″ tablet_width_inherit=”default” animation_type=”default” bg_image_animation=”none” border_type=”simple” column_border_width=”none” column_border_style=”solid”][vc_column_text]\nScuola e adozione\, percorso formativo a distanza\n[/vc_column_text][/vc_column][/vc_row][vc_row type=”in_container” full_screen_row_position=”middle” column_margin=”default” column_direction=”default” column_direction_tablet=”default” column_direction_phone=”default” scene_position=”center” text_color=”dark” text_align=”left” row_border_radius=”none” row_border_radius_applies=”bg” overflow=”visible” overlay_strength=”0.3″ gradient_direction=”left_to_right” shape_divider_position=”bottom” bg_image_animation=”none”][vc_column column_padding=”no-extra-padding” column_padding_tablet=”inherit” column_padding_phone=”inherit” column_padding_position=”all” column_element_direction_desktop=”default” column_element_spacing=”default” desktop_text_alignment=”default” tablet_text_alignment=”default” phone_text_alignment=”default” background_color_opacity=”1″ background_hover_color_opacity=”1″ column_backdrop_filter=”none” column_shadow=”none” column_border_radius=”none” column_link_target=”_self” column_position=”default” gradient_direction=”left_to_right” overlay_strength=”0.3″ width=”1/1″ tablet_width_inherit=”default” animation_type=”default” bg_image_animation=”none” border_type=”simple” column_border_width=”none” column_border_style=”solid”][vc_column_text]Lo sviluppo dei bambini\, delle bambine e dei ragazzi e delle ragazze è certamente influenzato sia da caratteristiche individuali che ambientali (relazioni familiari e sociali\, ecc.) che sistemiche (leggi\, ecc.). Assumendo tale ecologico punto di vista la scuola è da considerarsi essenziale al benessere psicosociale di ogni bambino e bambina\, ragazzo e ragazza nel nostro Paese\, ancor di più quando i loro percorsi di vita sono costellati da articolate specificità. Nella relazione tra scuola e adozione\, nel caso delle alunne e degli alunni con background adottivo (sia nazionale che internazionale) tali specificità\, uniche per ciascun ragazzo o ragazza\, possono avere a che fare sia con le storie di vita che li hanno condotti a incontrare una famiglia adottiva sia con la percezione che la società stessa ha dell’adozione in generale e\, in particolare\, delle famiglie adottive e delle persone con background adottivo. \nPer consentire una maggiore\, più ampia e continuamente aggiornata conoscenza della tematica e per contribuire alla costruzione di spazi di scambio e di confronto\, il MIM e la CAI hanno dunque elaborato\, con il supporto tecnico-scientifico dell’Istituto degli Innocenti di Firenze\, un percorso formativo a distanza (FAD). \nScopri il programma dettagliato \n[/vc_column_text][/vc_column][/vc_row][vc_row type=”in_container” full_screen_row_position=”middle” column_margin=”default” column_direction=”default” column_direction_tablet=”default” column_direction_phone=”default” scene_position=”center” text_color=”dark” text_align=”left” row_border_radius=”none” row_border_radius_applies=”bg” overflow=”visible” class=”programma” overlay_strength=”0.3″ gradient_direction=”left_to_right” shape_divider_position=”bottom” bg_image_animation=”none” gradient_type=”default” shape_type=””][vc_column column_padding=”no-extra-padding” column_padding_tablet=”inherit” column_padding_phone=”inherit” column_padding_position=”all” column_element_direction_desktop=”default” column_element_spacing=”default” desktop_text_alignment=”default” tablet_text_alignment=”default” phone_text_alignment=”default” background_color_opacity=”1″ background_hover_color_opacity=”1″ column_backdrop_filter=”none” column_shadow=”none” column_border_radius=”none” column_link_target=”_self” column_position=”default” gradient_direction=”left_to_right” overlay_strength=”0.3″ width=”1/1″ tablet_width_inherit=”default” animation_type=”default” bg_image_animation=”none” border_type=”simple” column_border_width=”none” column_border_style=”solid”][vc_column_text el_class=”blu uppercase”]\nPromotori\n[/vc_column_text][vc_column_text][/vc_column_text][/vc_column][/vc_row][vc_row type=”in_container” full_screen_row_position=”middle” column_margin=”default” equal_height=”yes” column_direction=”default” column_direction_tablet=”default” column_direction_phone=”default” scene_position=”center” top_padding=”30px” text_color=”dark” text_align=”left” row_border_radius=”none” row_border_radius_applies=”bg” overflow=”visible” overlay_strength=”0.3″ gradient_direction=”left_to_right” shape_divider_position=”bottom” bg_image_animation=”none” gradient_type=”default” shape_type=””][vc_column top_padding_desktop=”2%” constrain_group_100=”yes” bottom_padding_desktop=”2%” left_padding_desktop=”5%” constrain_group_101=”yes” right_padding_desktop=”5%” column_element_direction_desktop=”default” column_element_spacing=”default” desktop_text_alignment=”default” tablet_text_alignment=”default” phone_text_alignment=”default” background_color=”rgba(75\,126\,188\,0.15)” background_color_opacity=”1″ background_hover_color_opacity=”1″ column_backdrop_filter=”none” column_shadow=”none” column_border_radius=”none” column_link_target=”_self” column_position=”default” gradient_direction=”left_to_right” overlay_strength=”0.3″ width=”1/2″ tablet_width_inherit=”default” animation_type=”default” bg_image_animation=”none” border_type=”simple” column_border_width=”none” column_border_style=”solid” column_padding_type=”advanced” gradient_type=”default”][vc_column_text css=”.vc_custom_1682584326234{margin-top: 15px !important;}” el_class=”blu”]\nACCEDI\n[/vc_column_text][vc_column_text css=”.vc_custom_1695718779776{margin-top: 15px !important;}”]NOTA BENE: In genere le attività (corsi\, seminari e convegni\, gruppi di lavoro) sono ad accesso riservato. Quindi puoi accedere solo se hai ricevuto le credenziali per la specifica attività\, oppure se l’attività è non riservata. \nPer avere informazioni sulle singole attività scrivi a:  formazione@istitutodeglinnocenti.it[/vc_column_text][nectar_btn size=”jumbo” open_new_tab=”true” button_style=”regular” button_color_2=”Accent-Color” solid_text_color_override=”#ffffff” icon_family=”none” url=”https://fad.innocentiacademy.it/course/view.php?id=47″ text=”ACCEDI”][/vc_column][vc_column top_padding_desktop=”2%” constrain_group_100=”yes” bottom_padding_desktop=”2%” left_padding_desktop=”5%” constrain_group_101=”yes” right_padding_desktop=”5%” column_element_direction_desktop=”default” column_element_spacing=”default” desktop_text_alignment=”default” tablet_text_alignment=”default” phone_text_alignment=”default” background_color=”rgba(75\,126\,188\,0.15)” background_color_opacity=”1″ background_hover_color_opacity=”1″ column_backdrop_filter=”none” column_shadow=”none” column_border_radius=”none” column_link_target=”_self” column_position=”default” gradient_direction=”left_to_right” overlay_strength=”0.3″ width=”1/2″ tablet_width_inherit=”default” animation_type=”default” bg_image_animation=”none” border_type=”simple” column_border_width=”none” column_border_style=”solid” column_padding_type=”advanced” gradient_type=”default”][vc_column_text css=”.vc_custom_1682584340947{margin-top: 15px !important;}” el_class=”blu”]\nISCRIVITI\n[/vc_column_text][vc_column_text css=”.vc_custom_1695718816900{margin-top: 15px !important;}”]Puoi iscriverti a questa attività solo se non riservata. In questo caso\, se non sei già registrato ad Innocenti Academy\, clicca sul pulsante crea un account. \nSubito dopo\, solo se l’attività è non riservata\, potrai iscriverti e richiedere le credenziali per l’accesso.[/vc_column_text][nectar_btn size=”jumbo” open_new_tab=”true” button_style=”regular” button_color_2=”Accent-Color” solid_text_color_override=”#ffffff” icon_family=”none” url=”https://fad.innocentiacademy.it/login/signup.php” text=”CREA UN ACCOUNT”][/vc_column][/vc_row]
URL:https://www.innocentiacademy.it/attivita/scuola-e-adozione-approfondimenti-e-strumenti-2/
LOCATION:Innocenti Academy\, Italia
CATEGORIES:Corsi di Formazione
ATTACH;FMTTYPE=image/jpeg:https://www.innocentiacademy.it/wp-content/uploads/2024/05/Scuola-e-adozione.jpg
ORGANIZER;CN="Istituto degli Innocenti":MAILTO:info@istitutodeglinnocenti.it
END:VEVENT
END:VCALENDAR