BEGIN:VCALENDAR
VERSION:2.0
PRODID:-//Innocenti Academy - ECPv6.14.0//NONSGML v1.0//EN
CALSCALE:GREGORIAN
METHOD:PUBLISH
X-ORIGINAL-URL:https://www.innocentiacademy.it
X-WR-CALDESC:Eventi per Innocenti Academy
REFRESH-INTERVAL;VALUE=DURATION:PT1H
X-Robots-Tag:noindex
X-PUBLISHED-TTL:PT1H
BEGIN:VTIMEZONE
TZID:Europe/Rome
BEGIN:DAYLIGHT
TZOFFSETFROM:+0100
TZOFFSETTO:+0200
TZNAME:CEST
DTSTART:20240331T010000
END:DAYLIGHT
BEGIN:STANDARD
TZOFFSETFROM:+0200
TZOFFSETTO:+0100
TZNAME:CET
DTSTART:20241027T010000
END:STANDARD
END:VTIMEZONE
BEGIN:VEVENT
DTSTART;TZID=Europe/Rome:20241120T090000
DTEND;TZID=Europe/Rome:20241120T160000
DTSTAMP:20260424T175542
CREATED:20241111T151541Z
LAST-MODIFIED:20250708T085945Z
UID:10000111-1732093200-1732118400@www.innocentiacademy.it
SUMMARY:PIPPI\, percorso per famiglie e operatori
DESCRIPTION:PIPPI\, il Programma di Intervento Per la Prevenzione dell’Istituzionalizzazione (P.I.P.P.I.)\, il cui acronimo si ispira alla resilienza di Pippi Calzelunghe come metafora della forza dei bambini nell’affrontare le situazioni avverse della vita\, è il risultato di un innovativo paradigma di azione pubblica\, avviato nel 2011\, tra il Ministero del lavoro e delle politiche sociali e il LabRIEF (Laboratorio di Ricerca e Intervento in Educazione Familiare) del Dipartimento FISPPA dell’Università di Padova. \nNell’ambito di tale programma\, e in collaborazione con il Gruppo scientifico del Dipartimento FISPPA dell’Università di Padova guidato dalla Prof.ssa Paola Milani\, si è svolto in via sperimentale sul territorio toscano un percorso formativo “Famiglie & Operatori”. Il percorso ha visto coinvolti famiglie e operatori fianco a fianco in uno spazio di scambio circolare e paritetico. Tale percorso si è svolto in 4 incontri presso gli spazi dell’Istituto degli Innocenti di Firenze. \nA partire dalle attività messe in atto durante quest’anno di sperimentazione e grazie all’attenzione che la Regione Toscana ha rivolto e rivolge alle famiglie e ai minorenni che vivono condizione di vulnerabilità\, in ricorrenza della Giornata internazionale dei diritti per l’infanzia e l’adolescenza\, il prossimo 20 novembre presso il Salone Brunelleschi dell’Istituto degli Innocenti\, si terrà un convegno dedicato proprio alle famiglie e ai possibili interventi finalizzati al loro sostegno\, rivolto ai diversi attori coinvolti nel settore. \nIn tale occasione parteciperanno esperti del settore educativo\, clinico e sociale. Inoltre verrà presentato un rapporto sul tema curato dal Centro regionale di documentazione per l’infanzia e l’adolescenza. \n 
URL:https://www.innocentiacademy.it/attivita/percorso-per-famiglie-e-operatori-nellambito-del-programma-pippi/
LOCATION:Salone Brunelleschi\, Istituto degli Innocenti – Firenze\, Piazza della SS. Annunziata\, 12\, Firenze\, 50122
CATEGORIES:Seminari e Convegni
ATTACH;FMTTYPE=image/jpeg:https://www.innocentiacademy.it/wp-content/uploads/2024/11/PIPPI-21-settembre-2024.jpg
END:VEVENT
END:VCALENDAR