BEGIN:VCALENDAR
VERSION:2.0
PRODID:-//Innocenti Academy - ECPv6.14.0//NONSGML v1.0//EN
CALSCALE:GREGORIAN
METHOD:PUBLISH
X-WR-CALNAME:Innocenti Academy
X-ORIGINAL-URL:https://www.innocentiacademy.it
X-WR-CALDESC:Eventi per Innocenti Academy
REFRESH-INTERVAL;VALUE=DURATION:PT1H
X-Robots-Tag:noindex
X-PUBLISHED-TTL:PT1H
BEGIN:VTIMEZONE
TZID:Europe/Rome
BEGIN:DAYLIGHT
TZOFFSETFROM:+0100
TZOFFSETTO:+0200
TZNAME:CEST
DTSTART:20230326T010000
END:DAYLIGHT
BEGIN:STANDARD
TZOFFSETFROM:+0200
TZOFFSETTO:+0100
TZNAME:CET
DTSTART:20231029T010000
END:STANDARD
BEGIN:DAYLIGHT
TZOFFSETFROM:+0100
TZOFFSETTO:+0200
TZNAME:CEST
DTSTART:20240331T010000
END:DAYLIGHT
BEGIN:STANDARD
TZOFFSETFROM:+0200
TZOFFSETTO:+0100
TZNAME:CET
DTSTART:20241027T010000
END:STANDARD
END:VTIMEZONE
BEGIN:VEVENT
DTSTART;TZID=Europe/Rome:20240311T110000
DTEND;TZID=Europe/Rome:20240311T123000
DTSTAMP:20260424T152712
CREATED:20250124T113140Z
LAST-MODIFIED:20250124T113140Z
UID:10000148-1710154800-1710160200@www.innocentiacademy.it
SUMMARY:Seminario di accompagnamento alla compilazione di SIOSS – Banca dati dei servizi sociali
DESCRIPTION:[vc_row type=”in_container” full_screen_row_position=”middle” column_margin=”default” column_direction=”default” column_direction_tablet=”default” column_direction_phone=”default” scene_position=”center” text_color=”dark” text_align=”left” row_border_radius=”none” row_border_radius_applies=”bg” overflow=”visible” overlay_strength=”0.3″ gradient_direction=”left_to_right” shape_divider_position=”bottom” bg_image_animation=”none”][vc_column column_padding=”no-extra-padding” column_padding_tablet=”inherit” column_padding_phone=”inherit” column_padding_position=”all” column_element_direction_desktop=”default” column_element_spacing=”default” desktop_text_alignment=”default” tablet_text_alignment=”default” phone_text_alignment=”default” background_color_opacity=”1″ background_hover_color_opacity=”1″ column_backdrop_filter=”none” column_shadow=”none” column_border_radius=”none” column_link_target=”_self” column_position=”default” gradient_direction=”left_to_right” overlay_strength=”0.3″ width=”1/1″ tablet_width_inherit=”default” animation_type=”default” bg_image_animation=”none” border_type=”simple” column_border_width=”none” column_border_style=”solid”][vc_column_text]Il Seminario di accompagnamento alla compilazione di SIOSS – Banca dati dei servizi sociali – si è svolto in due repliche con i medesimi contenuti.[/vc_column_text][vc_column_text]\n\n11 marzo 2024 – 11.00-12.30\n18 marzo 2024 – 14.00-15.30\n\n[/vc_column_text][/vc_column][/vc_row][vc_row type=”in_container” full_screen_row_position=”middle” column_margin=”default” column_direction=”default” column_direction_tablet=”default” column_direction_phone=”default” scene_position=”center” text_color=”dark” text_align=”left” row_border_radius=”none” row_border_radius_applies=”bg” overflow=”visible” overlay_strength=”0.3″ gradient_direction=”left_to_right” shape_divider_position=”bottom” bg_image_animation=”none”][vc_column column_padding=”no-extra-padding” column_padding_tablet=”inherit” column_padding_phone=”inherit” column_padding_position=”all” column_element_direction_desktop=”default” column_element_spacing=”default” desktop_text_alignment=”default” tablet_text_alignment=”default” phone_text_alignment=”default” background_color_opacity=”1″ background_hover_color_opacity=”1″ column_backdrop_filter=”none” column_shadow=”none” column_border_radius=”none” column_link_target=”_self” column_position=”default” gradient_direction=”left_to_right” overlay_strength=”0.3″ width=”1/1″ tablet_width_inherit=”default” animation_type=”default” bg_image_animation=”none” border_type=”simple” column_border_width=”none” column_border_style=”solid”][vc_column_text]L’Istituto degli Innocenti svolge assistenza tecnica per il Ministero del lavoro e delle politiche sociali nello specifico per l’implementazione del sistema SIUSS e in particolare per il sistema informativo SIOSS. I seminari proposti fanno parte del percorso di accompagnamento ai territori per la corretta compilazione delle schede di raccolta dati\, in particolare per gli allegati 5 e 6 dedicati agli interventi rivolti ai bambini e bambine fuori dalla famiglia di origine.[/vc_column_text][vc_column_text el_class=”blu uppercase”]\nRELATORI\n[/vc_column_text][vc_column_text]\n\nStefano Ricci\nDaniela Rozzi\nEnrico Bartolini\n\n[/vc_column_text][/vc_column][/vc_row][vc_row type=”in_container” full_screen_row_position=”middle” column_margin=”default” column_direction=”default” column_direction_tablet=”default” column_direction_phone=”default” scene_position=”center” text_color=”dark” text_align=”left” row_border_radius=”none” row_border_radius_applies=”bg” overflow=”visible” class=”programma” overlay_strength=”0.3″ gradient_direction=”left_to_right” shape_divider_position=”bottom” bg_image_animation=”none” gradient_type=”default” shape_type=””][vc_column column_padding=”no-extra-padding” column_padding_tablet=”inherit” column_padding_phone=”inherit” column_padding_position=”all” column_element_direction_desktop=”default” column_element_spacing=”default” desktop_text_alignment=”default” tablet_text_alignment=”default” phone_text_alignment=”default” background_color_opacity=”1″ background_hover_color_opacity=”1″ column_backdrop_filter=”none” column_shadow=”none” column_border_radius=”none” column_link_target=”_self” column_position=”default” gradient_direction=”left_to_right” overlay_strength=”0.3″ width=”1/1″ tablet_width_inherit=”default” animation_type=”default” bg_image_animation=”none” border_type=”simple” column_border_width=”none” column_border_style=”solid”][vc_column_text el_class=”blu uppercase”]\nPromotori\n[/vc_column_text][vc_column_text][/vc_column_text][/vc_column][/vc_row][vc_row type=”in_container” full_screen_row_position=”middle” column_margin=”default” equal_height=”yes” column_direction=”default” column_direction_tablet=”default” column_direction_phone=”default” scene_position=”center” top_padding=”30px” text_color=”dark” text_align=”left” row_border_radius=”none” row_border_radius_applies=”bg” overflow=”visible” overlay_strength=”0.3″ gradient_direction=”left_to_right” shape_divider_position=”bottom” bg_image_animation=”none” gradient_type=”default” shape_type=””][vc_column top_padding_desktop=”2%” constrain_group_100=”yes” bottom_padding_desktop=”2%” left_padding_desktop=”5%” constrain_group_101=”yes” right_padding_desktop=”5%” column_element_direction_desktop=”default” column_element_spacing=”default” desktop_text_alignment=”default” tablet_text_alignment=”default” phone_text_alignment=”default” background_color=”rgba(75\,126\,188\,0.15)” background_color_opacity=”1″ background_hover_color_opacity=”1″ column_backdrop_filter=”none” column_shadow=”none” column_border_radius=”none” column_link_target=”_self” column_position=”default” gradient_direction=”left_to_right” overlay_strength=”0.3″ width=”1/2″ tablet_width_inherit=”default” animation_type=”default” bg_image_animation=”none” border_type=”simple” column_border_width=”none” column_border_style=”solid” column_padding_type=”advanced” gradient_type=”default”][vc_column_text css=”.vc_custom_1682584326234{margin-top: 15px !important;}” el_class=”blu”]\nACCEDI\n[/vc_column_text][vc_column_text css=”.vc_custom_1737132805231{margin-top: 15px !important;}”]NOTA BENE: In genere le attività (corsi\, seminari e convegni\, gruppi di lavoro) sono ad accesso riservato ed attive per un periodo di tempo limitato. Quindi puoi accedere solo se hai ricevuto le credenziali per la specifica attività\, oppure se l’attività è non riservata e non scaduta. \nPer avere informazioni sulle singole attività scrivi a:  formazione@istitutodeglinnocenti.it[/vc_column_text][nectar_btn size=”jumbo” open_new_tab=”true” button_style=”regular” button_color_2=”Accent-Color” solid_text_color_override=”#ffffff” icon_family=”none” text=”ACCEDI”][/vc_column][vc_column top_padding_desktop=”2%” constrain_group_100=”yes” bottom_padding_desktop=”2%” left_padding_desktop=”5%” constrain_group_101=”yes” right_padding_desktop=”5%” column_element_direction_desktop=”default” column_element_spacing=”default” desktop_text_alignment=”default” tablet_text_alignment=”default” phone_text_alignment=”default” background_color=”rgba(75\,126\,188\,0.15)” background_color_opacity=”1″ background_hover_color_opacity=”1″ column_backdrop_filter=”none” column_shadow=”none” column_border_radius=”none” column_link_target=”_self” column_position=”default” gradient_direction=”left_to_right” overlay_strength=”0.3″ width=”1/2″ tablet_width_inherit=”default” animation_type=”default” bg_image_animation=”none” border_type=”simple” column_border_width=”none” column_border_style=”solid” column_padding_type=”advanced” gradient_type=”default”][vc_column_text css=”.vc_custom_1682584340947{margin-top: 15px !important;}” el_class=”blu”]\nISCRIVITI\n[/vc_column_text][vc_column_text css=”.vc_custom_1737132821696{margin-top: 15px !important;}”]Puoi iscriverti a questa attività solo se non riservata e non scaduta. In questo caso\, se non sei già registrato ad Innocenti Academy\, clicca sul pulsante crea un account. \nSubito dopo\, solo se l’attività è non riservata e non scaduta\, potrai iscriverti e richiedere le credenziali per l’accesso.[/vc_column_text][nectar_btn size=”jumbo” open_new_tab=”true” button_style=”regular” button_color_2=”Accent-Color” solid_text_color_override=”#ffffff” icon_family=”none” text=”CREA UN ACCOUNT” url=”https://fad.innocentiacademy.it/login/signup.php”][/vc_column][/vc_row]
URL:https://www.innocentiacademy.it/attivita/seminario-di-accompagnamento-alla-compilazione-di-sioss-banca-dati-dei-servizi-sociali/
CATEGORIES:Seminari e Convegni
ATTACH;FMTTYPE=image/png:https://www.innocentiacademy.it/wp-content/uploads/2025/01/pillola4.png
ORGANIZER;CN="Istituto degli Innocenti":MAILTO:info@istitutodeglinnocenti.it
END:VEVENT
BEGIN:VEVENT
DTSTART;TZID=Europe/Rome:20231123T103000
DTEND;TZID=Europe/Rome:20231123T123000
DTSTAMP:20260424T152712
CREATED:20231113T160610Z
LAST-MODIFIED:20231127T111241Z
UID:10000057-1700735400-1700742600@www.innocentiacademy.it
SUMMARY:Bambini e adolescenti in carico ai servizi sociali - 3° Webinar di 3
DESCRIPTION:[vc_row type=”in_container” full_screen_row_position=”middle” column_margin=”default” column_direction=”default” column_direction_tablet=”default” column_direction_phone=”default” scene_position=”center” text_color=”dark” text_align=”left” row_border_radius=”none” row_border_radius_applies=”bg” overflow=”visible” overlay_strength=”0.3″ gradient_direction=”left_to_right” shape_divider_position=”bottom” bg_image_animation=”none”][vc_column column_padding=”no-extra-padding” column_padding_tablet=”inherit” column_padding_phone=”inherit” column_padding_position=”all” column_element_direction_desktop=”default” column_element_spacing=”default” desktop_text_alignment=”default” tablet_text_alignment=”default” phone_text_alignment=”default” background_color_opacity=”1″ background_hover_color_opacity=”1″ column_backdrop_filter=”none” column_shadow=”none” column_border_radius=”none” column_link_target=”_self” column_position=”default” gradient_direction=”left_to_right” overlay_strength=”0.3″ width=”1/1″ tablet_width_inherit=”default” animation_type=”default” bg_image_animation=”none” border_type=”simple” column_border_width=”none” column_border_style=”solid”][vc_column_text]\n3° Webinar di presentazione dell’indagine rivolto ad Ambiti territoriali sociali\n[/vc_column_text][vc_column_text]Il Ministero del Lavoro e delle Politiche Sociali sta avviando la realizzazione di un’indagine nazionale sui bambini\, gli adolescenti e i neomaggiorenni che sono stati presi in carico dai servizi sociali con un focus particolare su coloro che sono stati allontanati dalla famiglia di origine al fine di aggiornare ed approfondire il quadro di conoscenza su questo fenomeno. La ricerca si colloca nel solco delle precedenti raccolte di informazioni sui minori fuori famiglia e si propone di mantenere lo stesso livello informativo delle indagini campionarie realizzate in passato e di ampliare lo sguardo all’universo dei bambini\, delle bambine\, dei ragazzi e delle ragazze presi in carico dai servizi sociali\, spingendosi a considerare anche la fascia di popolazione tra i 18 anni e il compimento dei 21 anni che attraverso il supporto dei servizi sociali è impegnata a completare il proprio percorso verso l’autonomia. In tal modo intende fornire un valido supporto conoscitivo per la prossima piena attuazione del Sistema Informativo sulla cura e la protezione dei Bambini e della loro famiglia (S.In.BA) dello stesso Ministero oltre che\, in una prospettiva più ampia\, contribuire ad una programmazione delle politiche di settore anche in vista del nuovo Piano nazionale sociale.\nL’indagine prevede di coinvolgere tutti gli Ambiti Territoriali Sociali per raccogliere informazioni sull’organizzazione dei servizi e un campione di essi per realizzare l’approfondimento sulle caratteristiche dei bambini\, delle bambine\, dei ragazzi e delle ragazze in carico al servizio sociale con riferimento all’anno 2022.\nSono quindi previsti tre webinar di presentazione dell’Indagine rivolti a coloro che parteciperanno all’indagine.[/vc_column_text][vc_column_text el_class=”blu uppercase”]\nDocenti\n[/vc_column_text][vc_column_text]\nRenato Sampogna\, Dirigente Divisione IV – Ministero del lavoro e delle politiche sociali\nAnnunziata Bartolomei\, Consigliera CNOAS\nLucia Fagnini\, Ricercatrice IDI\nGemma Scarti\, Ricercatrice IDI  \n[/vc_column_text][vc_column_text el_class=”blu uppercase”]\nCompetenze acquisite\n[/vc_column_text][vc_column_text]Obiettivi della ricerca e elementi per la partecipazione all’indagine su bambini\, bambine e adolescenti in carico ai servizi sociali[/vc_column_text][vc_column_text el_class=”blu uppercase”]\nDurata\n[/vc_column_text][vc_column_text]\n2 ore \n[/vc_column_text][/vc_column][/vc_row][vc_row type=”in_container” full_screen_row_position=”middle” column_margin=”default” column_direction=”default” column_direction_tablet=”default” column_direction_phone=”default” scene_position=”center” text_color=”dark” text_align=”left” row_border_radius=”none” row_border_radius_applies=”bg” overflow=”visible” class=”programma” overlay_strength=”0.3″ gradient_direction=”left_to_right” shape_divider_position=”bottom” bg_image_animation=”none” gradient_type=”default” shape_type=””][vc_column column_padding=”no-extra-padding” column_padding_tablet=”inherit” column_padding_phone=”inherit” column_padding_position=”all” column_element_direction_desktop=”default” column_element_spacing=”default” desktop_text_alignment=”default” tablet_text_alignment=”default” phone_text_alignment=”default” background_color_opacity=”1″ background_hover_color_opacity=”1″ column_backdrop_filter=”none” column_shadow=”none” column_border_radius=”none” column_link_target=”_self” column_position=”default” gradient_direction=”left_to_right” overlay_strength=”0.3″ width=”1/1″ tablet_width_inherit=”default” animation_type=”default” bg_image_animation=”none” border_type=”simple” column_border_width=”none” column_border_style=”solid”][vc_column_text el_class=”blu uppercase”]\nProgramma\n[/vc_column_text][vc_column_text]\n10.30 Saluti e introduzione\nRenato Sampogna\, Dirigente\, Divisione IV – Ministero del lavoro e delle politiche sociali\nErika Tognaccini\, Consigliera\, Consiglio nazionale dell’ordine assistenti sociali \nIl monitoraggio dell’attività dei servizi sociali territoriali con i bambini e le bambine\nLucia Fagnini\, Ricercatrice\, Istituto degli Innocenti \nDisegno della ricerca e strumenti di indagine\nLucia Fagnini\, Ricercatrice\, Istituto degli Innocenti \nIl sistema informativo per la raccolta dei dati\nGemma Scarti\, Statistica\, Istituto degli innocenti \n12.00 Spazio per domande e risposte\n[/vc_column_text][/vc_column][/vc_row][vc_row type=”in_container” full_screen_row_position=”middle” column_margin=”default” column_direction=”default” column_direction_tablet=”default” column_direction_phone=”default” scene_position=”center” text_color=”dark” text_align=”left” row_border_radius=”none” row_border_radius_applies=”bg” overflow=”visible” class=”programma” overlay_strength=”0.3″ gradient_direction=”left_to_right” shape_divider_position=”bottom” bg_image_animation=”none” gradient_type=”default” shape_type=””][vc_column column_padding=”no-extra-padding” column_padding_tablet=”inherit” column_padding_phone=”inherit” column_padding_position=”all” column_element_direction_desktop=”default” column_element_spacing=”default” desktop_text_alignment=”default” tablet_text_alignment=”default” phone_text_alignment=”default” background_color_opacity=”1″ background_hover_color_opacity=”1″ column_backdrop_filter=”none” column_shadow=”none” column_border_radius=”none” column_link_target=”_self” column_position=”default” gradient_direction=”left_to_right” overlay_strength=”0.3″ width=”1/1″ tablet_width_inherit=”default” animation_type=”default” bg_image_animation=”none” border_type=”simple” column_border_width=”none” column_border_style=”solid”][vc_column_text el_class=”blu uppercase”]\nPromotori\n[/vc_column_text][vc_column_text][/vc_column_text][/vc_column][/vc_row][vc_row type=”in_container” full_screen_row_position=”middle” column_margin=”default” column_direction=”default” column_direction_tablet=”default” column_direction_phone=”default” scene_position=”center” top_padding=”30px” text_color=”dark” text_align=”left” row_border_radius=”none” row_border_radius_applies=”bg” overflow=”visible” overlay_strength=”0.3″ gradient_direction=”left_to_right” shape_divider_position=”bottom” bg_image_animation=”none” gradient_type=”default” shape_type=””][vc_column column_padding=”padding-3-percent” column_padding_tablet=”inherit” column_padding_phone=”inherit” column_padding_position=”all” column_element_direction_desktop=”default” column_element_spacing=”default” desktop_text_alignment=”default” tablet_text_alignment=”default” phone_text_alignment=”default” background_color_opacity=”1″ background_hover_color_opacity=”1″ column_backdrop_filter=”none” column_shadow=”none” column_border_radius=”10px” column_link_target=”_self” column_position=”default” gradient_direction=”left_to_right” overlay_strength=”0.3″ width=”1/1″ tablet_width_inherit=”default” animation_type=”default” bg_image_animation=”none” border_type=”simple” column_border_width=”1px” column_border_color=”#4b7ebc” column_border_style=”solid” column_padding_type=”default” gradient_type=”default”][vc_column_text el_class=”blu uppercase” css=”.vc_custom_1694526392906{padding-bottom: 20px !important;}”]\nMateriali\n[/vc_column_text]   Guarda la registrazione del Webinar [/vc_column][/vc_row]
URL:https://www.innocentiacademy.it/attivita/bambini-e-adolescenti-in-carico-ai-servizi-sociali-3-webinar/
CATEGORIES:Seminari e Convegni
ATTACH;FMTTYPE=image/jpeg:https://www.innocentiacademy.it/wp-content/uploads/2023/11/Bambini-e-adolescenti-in-carico-ai-servizi-sociali.jpg
ORGANIZER;CN="Istituto degli Innocenti":MAILTO:info@istitutodeglinnocenti.it
END:VEVENT
BEGIN:VEVENT
DTSTART;TZID=Europe/Rome:20230101T080000
DTEND;TZID=Europe/Rome:20241231T170000
DTSTAMP:20260424T152712
CREATED:20240213T105445Z
LAST-MODIFIED:20240515T113858Z
UID:10000085-1672560000-1735664400@www.innocentiacademy.it
SUMMARY:La presa in carico di bambini e bambine da parte dei servizi sociali territoriali: strumenti per conoscere e documentare
DESCRIPTION:[vc_row type=”in_container” full_screen_row_position=”middle” column_margin=”default” column_direction=”default” column_direction_tablet=”default” column_direction_phone=”default” scene_position=”center” text_color=”dark” text_align=”left” row_border_radius=”none” row_border_radius_applies=”bg” overflow=”visible” overlay_strength=”0.3″ gradient_direction=”left_to_right” shape_divider_position=”bottom” bg_image_animation=”none”][vc_column column_padding=”no-extra-padding” column_padding_tablet=”inherit” column_padding_phone=”inherit” column_padding_position=”all” column_element_direction_desktop=”default” column_element_spacing=”default” desktop_text_alignment=”default” tablet_text_alignment=”default” phone_text_alignment=”default” background_color_opacity=”1″ background_hover_color_opacity=”1″ column_backdrop_filter=”none” column_shadow=”none” column_border_radius=”none” column_link_target=”_self” column_position=”default” gradient_direction=”left_to_right” overlay_strength=”0.3″ width=”1/1″ tablet_width_inherit=”default” animation_type=”default” bg_image_animation=”none” border_type=”simple” column_border_width=”none” column_border_style=”solid”][vc_column_text]\nIl Ministero del Lavoro e delle Politiche Sociali ha avviato la realizzazione di un’indagine nazionale sui bambini e le bambine\, gli adolescenti e i neomaggiorenni che sono stati presi in carico dai servizi sociali nel corso del 2022\, con un focus particolare su coloro che sono stati allontanati dalla famiglia di origine al fine di aggiornare ed approfondire il quadro di conoscenza su questo fenomeno. \nIn affiancamento all’indagine è stato predisposto il presente percorso formativo a cui possono partecipare tutti i soggetti coinvolti nell’indagine. \nIl percorso prevede approfondimenti teorici relativi al contesto che fa da sfondo all’attivazione dell’indagine e materiale illustrativo per la partecipazione operativa alla rilevazione. \nLa formazione FAD è strutturata in 2 moduli formativi: all’interno di ogni modulo ogni video deve essere visionato e ogni documento deve essere scaricato per poter procedere col corso e accedere alle risorse successive; questo perché ogni contributo è fondamentale per poter poi rispondere correttamente al questionario previsto alla fine del corso che attesterà l’avvenuta acquisizione dei concetti chiave. \n[/vc_column_text][/vc_column][/vc_row][vc_row type=”in_container” full_screen_row_position=”middle” column_margin=”default” column_direction=”default” column_direction_tablet=”default” column_direction_phone=”default” scene_position=”center” text_color=”dark” text_align=”left” row_border_radius=”none” row_border_radius_applies=”bg” overflow=”visible” class=”programma” overlay_strength=”0.3″ gradient_direction=”left_to_right” shape_divider_position=”bottom” bg_image_animation=”none” gradient_type=”default” shape_type=””][vc_column column_padding=”no-extra-padding” column_padding_tablet=”inherit” column_padding_phone=”inherit” column_padding_position=”all” column_element_direction_desktop=”default” column_element_spacing=”default” desktop_text_alignment=”default” tablet_text_alignment=”default” phone_text_alignment=”default” background_color_opacity=”1″ background_hover_color_opacity=”1″ column_backdrop_filter=”none” column_shadow=”none” column_border_radius=”none” column_link_target=”_self” column_position=”default” gradient_direction=”left_to_right” overlay_strength=”0.3″ width=”1/1″ tablet_width_inherit=”default” animation_type=”default” bg_image_animation=”none” border_type=”simple” column_border_width=”none” column_border_style=”solid”][vc_column_text el_class=”blu uppercase”]\nPromotori\n[/vc_column_text][vc_column_text][/vc_column_text][/vc_column][/vc_row][vc_row type=”in_container” full_screen_row_position=”middle” column_margin=”default” equal_height=”yes” column_direction=”default” column_direction_tablet=”default” column_direction_phone=”default” scene_position=”center” top_padding=”30px” text_color=”dark” text_align=”left” row_border_radius=”none” row_border_radius_applies=”bg” overflow=”visible” overlay_strength=”0.3″ gradient_direction=”left_to_right” shape_divider_position=”bottom” bg_image_animation=”none” gradient_type=”default” shape_type=””][vc_column top_padding_desktop=”2%” constrain_group_100=”yes” bottom_padding_desktop=”2%” left_padding_desktop=”5%” constrain_group_101=”yes” right_padding_desktop=”5%” column_element_direction_desktop=”default” column_element_spacing=”default” desktop_text_alignment=”default” tablet_text_alignment=”default” phone_text_alignment=”default” background_color=”rgba(75\,126\,188\,0.15)” background_color_opacity=”1″ background_hover_color_opacity=”1″ column_backdrop_filter=”none” column_shadow=”none” column_border_radius=”none” column_link_target=”_self” column_position=”default” gradient_direction=”left_to_right” overlay_strength=”0.3″ width=”1/2″ tablet_width_inherit=”default” animation_type=”default” bg_image_animation=”none” border_type=”simple” column_border_width=”none” column_border_style=”solid” column_padding_type=”advanced” gradient_type=”default”][vc_column_text css=”.vc_custom_1682584326234{margin-top: 15px !important;}” el_class=”blu”]\nACCEDI\n[/vc_column_text][vc_column_text css=”.vc_custom_1695718779776{margin-top: 15px !important;}”]NOTA BENE: In genere le attività (corsi\, seminari e convegni\, gruppi di lavoro) sono ad accesso riservato. Quindi puoi accedere solo se hai ricevuto le credenziali per la specifica attività\, oppure se l’attività è non riservata. \nPer avere informazioni sulle singole attività scrivi a:  formazione@istitutodeglinnocenti.it[/vc_column_text][nectar_btn size=”jumbo” open_new_tab=”true” button_style=”regular” button_color_2=”Accent-Color” solid_text_color_override=”#ffffff” icon_family=”none” url=”https://fad.innocentiacademy.it/enrol/index.php?id=13″ text=”ACCEDI”][/vc_column][vc_column top_padding_desktop=”2%” constrain_group_100=”yes” bottom_padding_desktop=”2%” left_padding_desktop=”5%” constrain_group_101=”yes” right_padding_desktop=”5%” column_element_direction_desktop=”default” column_element_spacing=”default” desktop_text_alignment=”default” tablet_text_alignment=”default” phone_text_alignment=”default” background_color=”rgba(75\,126\,188\,0.15)” background_color_opacity=”1″ background_hover_color_opacity=”1″ column_backdrop_filter=”none” column_shadow=”none” column_border_radius=”none” column_link_target=”_self” column_position=”default” gradient_direction=”left_to_right” overlay_strength=”0.3″ width=”1/2″ tablet_width_inherit=”default” animation_type=”default” bg_image_animation=”none” border_type=”simple” column_border_width=”none” column_border_style=”solid” column_padding_type=”advanced” gradient_type=”default”][vc_column_text css=”.vc_custom_1682584340947{margin-top: 15px !important;}” el_class=”blu”]\nISCRIVITI\n[/vc_column_text][vc_column_text css=”.vc_custom_1695718816900{margin-top: 15px !important;}”]Puoi iscriverti a questa attività solo se non riservata. In questo caso\, se non sei già registrato ad Innocenti Academy\, clicca sul pulsante crea un account. \nSubito dopo\, solo se l’attività è non riservata\, potrai iscriverti e richiedere le credenziali per l’accesso.[/vc_column_text][nectar_btn size=”jumbo” open_new_tab=”true” button_style=”regular” button_color_2=”Accent-Color” solid_text_color_override=”#ffffff” icon_family=”none” url=”https://fad.innocentiacademy.it/login/signup.php” text=”CREA UN ACCOUNT”][/vc_column][/vc_row]
URL:https://www.innocentiacademy.it/attivita/la-presa-in-carico-di-bambini-e-bambine-da-parte-dei-servizi-sociali-territoriali-strumenti-per-conoscere-e-documentare/
CATEGORIES:Corsi di Formazione
ATTACH;FMTTYPE=image/jpeg:https://www.innocentiacademy.it/wp-content/uploads/2023/11/bambini-servizi-sociali-territoriali.jpeg
ORGANIZER;CN="Istituto degli Innocenti":MAILTO:info@istitutodeglinnocenti.it
END:VEVENT
END:VCALENDAR