BEGIN:VCALENDAR
VERSION:2.0
PRODID:-//Innocenti Academy - ECPv6.14.0//NONSGML v1.0//EN
CALSCALE:GREGORIAN
METHOD:PUBLISH
X-ORIGINAL-URL:https://www.innocentiacademy.it
X-WR-CALDESC:Eventi per Innocenti Academy
REFRESH-INTERVAL;VALUE=DURATION:PT1H
X-Robots-Tag:noindex
X-PUBLISHED-TTL:PT1H
BEGIN:VTIMEZONE
TZID:Europe/Rome
BEGIN:DAYLIGHT
TZOFFSETFROM:+0100
TZOFFSETTO:+0200
TZNAME:CEST
DTSTART:20190331T010000
END:DAYLIGHT
BEGIN:STANDARD
TZOFFSETFROM:+0200
TZOFFSETTO:+0100
TZNAME:CET
DTSTART:20191027T010000
END:STANDARD
END:VTIMEZONE
BEGIN:VEVENT
DTSTART;TZID=Europe/Rome:20191001T000000
DTEND;TZID=Europe/Rome:20191130T180800
DTSTAMP:20260424T224835
CREATED:20230912T110052Z
LAST-MODIFIED:20231120T174240Z
UID:10000028-1569888000-1575137280@www.innocentiacademy.it
SUMMARY:Rilevazione precoce dei comportamenti della sindrome autistica
DESCRIPTION:[vc_row type=”in_container” full_screen_row_position=”middle” column_margin=”default” column_direction=”default” column_direction_tablet=”default” column_direction_phone=”default” scene_position=”center” text_color=”dark” text_align=”left” row_border_radius=”none” row_border_radius_applies=”bg” overflow=”visible” overlay_strength=”0.3″ gradient_direction=”left_to_right” shape_divider_position=”bottom” bg_image_animation=”none”][vc_column column_padding=”no-extra-padding” column_padding_tablet=”inherit” column_padding_phone=”inherit” column_padding_position=”all” column_element_direction_desktop=”default” column_element_spacing=”default” desktop_text_alignment=”default” tablet_text_alignment=”default” phone_text_alignment=”default” background_color_opacity=”1″ background_hover_color_opacity=”1″ column_backdrop_filter=”none” column_shadow=”none” column_border_radius=”none” column_link_target=”_self” column_position=”default” gradient_direction=”left_to_right” overlay_strength=”0.3″ width=”1/1″ tablet_width_inherit=”default” animation_type=”default” bg_image_animation=”none” border_type=”simple” column_border_width=”none” column_border_style=”solid”][vc_column_text]\nIl percorso formativo si colloca nel quadro delle azioni promosse dalla Regione Lazio con D.G.R. n.945/2014 finalizzate al sostegno alle famiglie\, e realizzate con la collaborazione dell’IPAB Asilo Savoia. Il percorso è finalizzato al rafforzamento delle competenze del personale del sistema dei servizi educativi per l’intercettazione precoce nei bambini di segnali collegabili a ai disturbi dello spettro autistico (SDA). \n[/vc_column_text][vc_column_text el_class=”blu”]\nObiettivi\n[/vc_column_text][vc_column_text css=”.vc_custom_1694516795213{padding-bottom: 20px !important;}”]\n\nCondividere strategie di lavoro interdisciplinari tra professionisti diversi;\nCondividere strumenti e pratiche per l’inclusione dei bambini rom\, sinti e caminanti;\nSviluppare reti territoriali.\n\n[/vc_column_text][vc_column_text el_class=”blu”]\nDocenti\n[/vc_column_text][vc_column_text]Morana M.\nPiazza E.\nCristofari T.\nDi Perna C.\nPanunzi E.\nTrasforini M.\nFratini S.\nGiannone S.\nValerio R.\nSonnino F.\nPibiri F.\nFalchetti C.[/vc_column_text][vc_column_text el_class=”blu”]\nCompetenze acquisite\n[/vc_column_text][vc_column_text]Al termine del corso sarai in grado di: \n\nPorre in atto processi osservativi in grado di aiutare a individuare eventuali aspetti riconducibili alla sindrome autistica;\nUtilizzare strumenti per operare con bambini che presentano sindrome autistica;\nmodalità di relazione da adottare con le famiglie.\n\n[/vc_column_text][/vc_column][/vc_row][vc_row type=”in_container” full_screen_row_position=”middle” column_margin=”default” column_direction=”default” column_direction_tablet=”default” column_direction_phone=”default” scene_position=”center” text_color=”dark” text_align=”left” row_border_radius=”none” row_border_radius_applies=”bg” overflow=”visible” class=”programma” overlay_strength=”0.3″ gradient_direction=”left_to_right” shape_divider_position=”bottom” bg_image_animation=”none” gradient_type=”default” shape_type=””][vc_column column_padding=”no-extra-padding” column_padding_tablet=”inherit” column_padding_phone=”inherit” column_padding_position=”all” column_element_direction_desktop=”default” column_element_spacing=”default” desktop_text_alignment=”default” tablet_text_alignment=”default” phone_text_alignment=”default” background_color_opacity=”1″ background_hover_color_opacity=”1″ column_backdrop_filter=”none” column_shadow=”none” column_border_radius=”none” column_link_target=”_self” column_position=”default” gradient_direction=”left_to_right” overlay_strength=”0.3″ width=”1/1″ tablet_width_inherit=”default” animation_type=”default” bg_image_animation=”none” border_type=”simple” column_border_width=”none” column_border_style=”solid”][vc_column_text el_class=”blu uppercase”]\nPromotori\n[/vc_column_text][vc_column_text][/vc_column_text][/vc_column][/vc_row][vc_row type=”in_container” full_screen_row_position=”middle” column_margin=”default” column_direction=”default” column_direction_tablet=”default” column_direction_phone=”default” scene_position=”center” top_padding=”30px” text_color=”dark” text_align=”left” row_border_radius=”none” row_border_radius_applies=”bg” overflow=”visible” overlay_strength=”0.3″ gradient_direction=”left_to_right” shape_divider_position=”bottom” bg_image_animation=”none” gradient_type=”default” shape_type=””][vc_column column_padding=”padding-3-percent” column_padding_tablet=”inherit” column_padding_phone=”inherit” column_padding_position=”all” column_element_direction_desktop=”default” column_element_spacing=”default” desktop_text_alignment=”default” tablet_text_alignment=”default” phone_text_alignment=”default” background_color_opacity=”1″ background_hover_color_opacity=”1″ column_backdrop_filter=”none” column_shadow=”none” column_border_radius=”10px” column_link_target=”_self” column_position=”default” gradient_direction=”left_to_right” overlay_strength=”0.3″ width=”1/1″ tablet_width_inherit=”default” animation_type=”default” bg_image_animation=”none” border_type=”simple” column_border_width=”1px” column_border_color=”#4b7ebc” column_border_style=”solid” column_padding_type=”default” gradient_type=”default”][vc_column_text el_class=”blu uppercase” css=”.vc_custom_1694526392906{padding-bottom: 20px !important;}”]\nMateriali\n[/vc_column_text]   \nAutismo Lazio 19 – Pedagogisti \n    Autismo Lazio 19 – Pedagogisti    Dispensa [/vc_column][/vc_row][vc_row type=”in_container” full_screen_row_position=”middle” column_margin=”default” equal_height=”yes” column_direction=”default” column_direction_tablet=”default” column_direction_phone=”default” scene_position=”center” top_padding=”30px” text_color=”dark” text_align=”left” row_border_radius=”none” row_border_radius_applies=”bg” overflow=”visible” disable_element=”yes” overlay_strength=”0.3″ gradient_direction=”left_to_right” shape_divider_position=”bottom” bg_image_animation=”none” gradient_type=”default” shape_type=””][vc_column top_padding_desktop=”2%” constrain_group_100=”yes” bottom_padding_desktop=”2%” left_padding_desktop=”5%” constrain_group_101=”yes” right_padding_desktop=”5%” column_element_direction_desktop=”default” column_element_spacing=”default” desktop_text_alignment=”default” tablet_text_alignment=”default” phone_text_alignment=”default” background_color=”rgba(75\,126\,188\,0.15)” background_color_opacity=”1″ background_hover_color_opacity=”1″ column_backdrop_filter=”none” column_shadow=”none” column_border_radius=”none” column_link_target=”_self” column_position=”default” gradient_direction=”left_to_right” overlay_strength=”0.3″ width=”1/2″ tablet_width_inherit=”default” animation_type=”default” bg_image_animation=”none” border_type=”simple” column_border_width=”none” column_border_style=”solid” column_padding_type=”advanced” gradient_type=”default”][vc_column_text css=”.vc_custom_1682584326234{margin-top: 15px !important;}” el_class=”blu”]\nACCEDI\n[/vc_column_text][vc_column_text css=”.vc_custom_1682584694266{margin-top: 15px !important;}”]Sei già iscritto alla nostra piattaforma? Effettua l’accesso. \nPotrai poi richiedere le chiavi di accesso ai singoli corsi scrivendo a: formazione@istitutodeglinnocenti.it[/vc_column_text][nectar_btn size=”jumbo” open_new_tab=”true” button_style=”regular” button_color_2=”Accent-Color” solid_text_color_override=”#ffffff” icon_family=”none” url=”https://talentoplus.me/innocentiacademy/course/view.php?id=6″ text=”ACCEDI”][/vc_column][vc_column top_padding_desktop=”2%” constrain_group_100=”yes” bottom_padding_desktop=”2%” left_padding_desktop=”5%” constrain_group_101=”yes” right_padding_desktop=”5%” column_element_direction_desktop=”default” column_element_spacing=”default” desktop_text_alignment=”default” tablet_text_alignment=”default” phone_text_alignment=”default” background_color=”rgba(75\,126\,188\,0.15)” background_color_opacity=”1″ background_hover_color_opacity=”1″ column_backdrop_filter=”none” column_shadow=”none” column_border_radius=”none” column_link_target=”_self” column_position=”default” gradient_direction=”left_to_right” overlay_strength=”0.3″ width=”1/2″ tablet_width_inherit=”default” animation_type=”default” bg_image_animation=”none” border_type=”simple” column_border_width=”none” column_border_style=”solid” column_padding_type=”advanced” gradient_type=”default”][vc_column_text css=”.vc_custom_1682584340947{margin-top: 15px !important;}” el_class=”blu”]\nISCRIVITI\n[/vc_column_text][vc_column_text css=”.vc_custom_1682584403455{margin-top: 15px !important;}”]L’iscrizione ai Corsi è riservata. È possibile iscriversi alla piattaforma cliccando sul pulsante Crea un account.\nUna volta completata l’iscrizione sarà possibile richiedere le chiavi di accesso ai singoli corsi scrivendo a: formazione@istitutodeglinnocenti.it[/vc_column_text][nectar_btn size=”jumbo” open_new_tab=”true” button_style=”regular” button_color_2=”Accent-Color” solid_text_color_override=”#ffffff” icon_family=”none” url=”https://talentoplus.me/innocentiacademy/login/signup.php” text=”CREA UN ACCOUNT”][/vc_column][/vc_row]
URL:https://www.innocentiacademy.it/attivita/rilevazione-precoce-dei-comportamenti-della-sindrome-autistica/
CATEGORIES:Corsi di Formazione
ATTACH;FMTTYPE=image/jpeg:https://www.innocentiacademy.it/wp-content/uploads/2023/09/Rilevazione-precoce-dei-comportamenti-della-sindrome-autistica.jpg
ORGANIZER;CN="Istituto degli Innocenti":MAILTO:info@istitutodeglinnocenti.it
END:VEVENT
END:VCALENDAR