BEGIN:VCALENDAR
VERSION:2.0
PRODID:-//Innocenti Academy - ECPv6.14.0//NONSGML v1.0//EN
CALSCALE:GREGORIAN
METHOD:PUBLISH
X-ORIGINAL-URL:https://www.innocentiacademy.it
X-WR-CALDESC:Eventi per Innocenti Academy
REFRESH-INTERVAL;VALUE=DURATION:PT1H
X-Robots-Tag:noindex
X-PUBLISHED-TTL:PT1H
BEGIN:VTIMEZONE
TZID:Europe/Rome
BEGIN:DAYLIGHT
TZOFFSETFROM:+0100
TZOFFSETTO:+0200
TZNAME:CEST
DTSTART:20230326T010000
END:DAYLIGHT
BEGIN:STANDARD
TZOFFSETFROM:+0200
TZOFFSETTO:+0100
TZNAME:CET
DTSTART:20231029T010000
END:STANDARD
END:VTIMEZONE
BEGIN:VEVENT
DTSTART;TZID=Europe/Rome:20231120T084500
DTEND;TZID=Europe/Rome:20231120T143000
DTSTAMP:20260425T003929
CREATED:20231116T130738Z
LAST-MODIFIED:20231116T132835Z
UID:10000058-1700469900-1700490600@www.innocentiacademy.it
SUMMARY:Giornata internazionale dei diritti dell’infanzia e dell’adolescenza
DESCRIPTION:[vc_row type=”in_container” full_screen_row_position=”middle” column_margin=”default” column_direction=”default” column_direction_tablet=”default” column_direction_phone=”default” scene_position=”center” text_color=”dark” text_align=”left” row_border_radius=”none” row_border_radius_applies=”bg” overflow=”visible” overlay_strength=”0.3″ gradient_direction=”left_to_right” shape_divider_position=”bottom” bg_image_animation=”none”][vc_column column_padding=”no-extra-padding” column_padding_tablet=”inherit” column_padding_phone=”inherit” column_padding_position=”all” column_element_direction_desktop=”default” column_element_spacing=”default” desktop_text_alignment=”default” tablet_text_alignment=”default” phone_text_alignment=”default” background_color_opacity=”1″ background_hover_color_opacity=”1″ column_backdrop_filter=”none” column_shadow=”none” column_border_radius=”none” column_link_target=”_self” column_position=”default” gradient_direction=”left_to_right” overlay_strength=”0.3″ width=”1/1″ tablet_width_inherit=”default” animation_type=”default” bg_image_animation=”none” border_type=”simple” column_border_width=”none” column_border_style=”solid”][vc_column_text]In occasione dell’anniversario della ratifica della Dichiarazione Universale dei diritti del fanciullo\, è previsto il Convegno\, organizzato dal Centro Regionale di documentazione per l’infanzia e l’adolescenza della Regione Toscana\, per presentare l’indagine su benessere\, abitudini e stili di vita di pre-adolescenti e adolescenti toscani\, realizzata in collaborazione con l’Ufficio Scolastico Regionale della Toscana. \nLa ricerca che verrà presentata il prossimo 20 novembre\, con il coinvolgimento dei vari livelli Istituzionali che si occupano di politiche per l’infanzia\, di esperti e di una platea di ragazzi che hanno partecipato all’indagine stessa\, è stata realizzata tra la primavera e dicembre del 2022 e ha previsto la somministrazione di un questionario nelle scuole e la realizzazione di alcuni focus group. Per avere stime delle 28 aree territoriali sono state realizzate circa 15mila interviste e il coinvolgimento di circa 200 scuole e 800 classi. \nLa ricerca ha permesso di raccogliere importanti risultati su tematiche di grande interesse (relazioni\, stili di vita e prospettive future\, la scuola\, Benessere\, futuro\, diritti\, partecipazione e spazi decisionali) che auspichiamo possano essere utili a dare maggiore forza alla voce delle ragazze e dei ragazzi\, a partire dall’occasione di confronto e incontro promossa nella giornata che ricorda e riafferma l’importanza della promozione dei Diritti dell’infanzia a l’adolescenza. \nPer iscrizioni compilare il form al seguente link: \nhttps://questionari4.istitutodegliinnocenti.it/index.php/879823?lang=it \nLe iscrizioni saranno accettate in ordine di arrivo fino al limite massimo di 100 iscritti. \nIl convegno sarà realizzato presso l’Istituto degli Innocenti – Piazza Santissima Annunziata 12\, Firenze- Salone Brunelleschi. \n[/vc_column_text][/vc_column][/vc_row][vc_row type=”in_container” full_screen_row_position=”middle” column_margin=”default” column_direction=”default” column_direction_tablet=”default” column_direction_phone=”default” scene_position=”center” text_color=”dark” text_align=”left” row_border_radius=”none” row_border_radius_applies=”bg” overflow=”visible” class=”programma” overlay_strength=”0.3″ gradient_direction=”left_to_right” shape_divider_position=”bottom” bg_image_animation=”none” gradient_type=”default” shape_type=””][vc_column column_padding=”no-extra-padding” column_padding_tablet=”inherit” column_padding_phone=”inherit” column_padding_position=”all” column_element_direction_desktop=”default” column_element_spacing=”default” desktop_text_alignment=”default” tablet_text_alignment=”default” phone_text_alignment=”default” background_color_opacity=”1″ background_hover_color_opacity=”1″ column_backdrop_filter=”none” column_shadow=”none” column_border_radius=”none” column_link_target=”_self” column_position=”default” gradient_direction=”left_to_right” overlay_strength=”0.3″ width=”1/1″ tablet_width_inherit=”default” animation_type=”default” bg_image_animation=”none” border_type=”simple” column_border_width=”none” column_border_style=”solid”][vc_column_text el_class=”blu uppercase”]\nPromotori\n[/vc_column_text][vc_column_text][/vc_column_text][/vc_column][/vc_row][vc_row type=”in_container” full_screen_row_position=”middle” column_margin=”default” column_direction=”default” column_direction_tablet=”default” column_direction_phone=”default” scene_position=”center” top_padding=”30px” text_color=”dark” text_align=”left” row_border_radius=”none” row_border_radius_applies=”bg” overflow=”visible” overlay_strength=”0.3″ gradient_direction=”left_to_right” shape_divider_position=”bottom” bg_image_animation=”none” gradient_type=”default” shape_type=””][vc_column column_padding=”padding-3-percent” column_padding_tablet=”inherit” column_padding_phone=”inherit” column_padding_position=”all” column_element_direction_desktop=”default” column_element_spacing=”default” desktop_text_alignment=”default” tablet_text_alignment=”default” phone_text_alignment=”default” background_color_opacity=”1″ background_hover_color_opacity=”1″ column_backdrop_filter=”none” column_shadow=”none” column_border_radius=”10px” column_link_target=”_self” column_position=”default” gradient_direction=”left_to_right” overlay_strength=”0.3″ width=”1/1″ tablet_width_inherit=”default” animation_type=”default” bg_image_animation=”none” border_type=”simple” column_border_width=”1px” column_border_color=”#4b7ebc” column_border_style=”solid” column_padding_type=”default” gradient_type=”default”][vc_column_text el_class=”blu uppercase” css=”.vc_custom_1694526392906{padding-bottom: 20px !important;}”]\nMateriali\n[/vc_column_text]   Programma del Convegno [/vc_column][/vc_row]
URL:https://www.innocentiacademy.it/attivita/giornata-internazionale-dei-diritti-dellinfanzia-e-delladolescenza/
LOCATION:Salone Brunelleschi\, Istituto degli Innocenti – Firenze\, Piazza della SS. Annunziata\, 12\, Firenze\, 50122
CATEGORIES:Seminari e Convegni
ATTACH;FMTTYPE=image/jpeg:https://www.innocentiacademy.it/wp-content/uploads/2023/11/Evento-20-nov-2023-3.jpg
END:VEVENT
END:VCALENDAR